# Electronic Supplementary Material (ESI) for Chemical Communications.
# This journal is © The Royal Society of Chemistry 2020

####################################################################### 
# 
# This file contains crystal structure data downloaded from the 
# Cambridge Structural Database (CSD) hosted by the Cambridge 
# Crystallographic Data Centre (CCDC).
# 
# Full information about CCDC data access policies and citation 
# guidelines are available at http://www.ccdc.cam.ac.uk/access/V1 
# 
# Audit and citation data items may have been added by the CCDC. 
# Please retain this information to preserve the provenance of 
# this file and to allow appropriate attribution of the data. 
# 
#######################################################################

data_Li2(BH4)2-NH3
_database_code_depnum_ccdc_archive 'CCDC 1973062'
loop_
_audit_author_name
_audit_author_address
'Radovan Cerny'
;University of Geneva
Switzerland
;
_audit_update_record             
;
2019-12-19 deposited with the CCDC.	2020-03-03 downloaded from the CCDC.
;

#=============================================================================

# 5. CHEMICAL DATA

_chemical_name_systematic        
; ?
;
_chemical_name_common            ?
_chemical_formula_moiety         ?
_chemical_formula_structural     ?
_chemical_formula_analytical     ?
_chemical_formula_iupac          ?
_chemical_formula_sum            ?
_chemical_formula_weight         ?
_chemical_melting_point          ?
_chemical_compound_source        ? # for minerals and 
# natural products

loop_
_atom_type_symbol
_atom_type_scat_Cromer_Mann_a1
_atom_type_scat_Cromer_Mann_b1
_atom_type_scat_Cromer_Mann_a2
_atom_type_scat_Cromer_Mann_b2
_atom_type_scat_Cromer_Mann_a3
_atom_type_scat_Cromer_Mann_b3
_atom_type_scat_Cromer_Mann_a4
_atom_type_scat_Cromer_Mann_b4
_atom_type_scat_Cromer_Mann_c
_atom_type_scat_dispersion_real
_atom_type_scat_dispersion_imag
_atom_type_scat_source
b 2.05450 23.21850 1.33260 1.02100 1.09790 60.34980 0.70680 0.14030 -0.19320
0.00000 0.00100
International_Tables_for_Crystallography_Vol.C(1991)_Tables_6.1.1.4_and_6.1.1.5
h 0.49300 10.51090 0.32291 26.12570 0.14019 3.14236 0.04081 57.79970 0.00304
0.00000 0.00000
International_Tables_for_Crystallography_Vol.C(1991)_Tables_6.1.1.4_and_6.1.1.5
li 1.12820 3.95460 0.75080 1.05240 0.61750 85.39050 0.46530 168.26100 0.03770
0.00000 0.00000
International_Tables_for_Crystallography_Vol.C(1991)_Tables_6.1.1.4_and_6.1.1.5
n 12.21260 0.00570 3.13220 9.89330 2.01250 28.99750 1.16630 0.58260 -11.52900
0.00400 0.00300
International_Tables_for_Crystallography_Vol.C(1991)_Tables_6.1.1.4_and_6.1.1.5

#=============================================================================

# 6. POWDER SPECIMEN AND CRYSTAL DATA

_symmetry_cell_setting           Orthorhombic
_symmetry_space_group_name_H-M   'P n a 21'
_symmetry_space_group_name_Hall  'P 2c -2n'

loop_
_symmetry_equiv_pos_as_xyz #<--must include 'x,y,z'
x,y,z
-x+1/2,y+1/2,z+1/2
x+1/2,-y+1/2,z
-x,-y,z+1/2

_cell_length_a                   9.6177(3)
_cell_length_b                   13.7479(3)
_cell_length_c                   4.44101(11)
_cell_angle_alpha                90.0000
_cell_angle_beta                 90.0000
_cell_angle_gamma                90.0000
_cell_volume                     587.20(3)
_cell_formula_units_Z            ?
_cell_measurement_temperature    ?
_cell_special_details            
; ?
;
# The next three fields give the specimen dimensions in mm.  The equatorial
# plane contains the incident and diffracted beam.

_pd_spec_size_axial              ? # perpendicular to 
# equatorial plane
_pd_spec_size_equat              ? # parallel to 
# scattering vector
# in transmission
_pd_spec_size_thick              ? # parallel to 
# scattering vector
# in reflection

# The next five fields are character fields that describe the specimen.

_pd_spec_mounting                
# This field should be
# used to give details of the 
# container.
; ?
;
_pd_spec_mount_mode              ? # options are 'reflection'
# or 'transmission'
_pd_spec_shape                   ? # options are 'cylinder' 
# 'flat_sheet' or 'irregular'
_pd_char_particle_morphology     ?
_pd_char_colour                  ? # use ICDD colour descriptions

# The following three fields describe the preparation of the specimen.
# The cooling rate is in K/min.  The pressure at which the sample was 
# prepared is in kPa.  The temperature of preparation is in K.        

_pd_prep_cool_rate               ?
_pd_prep_pressure                ?
_pd_prep_temperature             ?

# The next four fields are normally only needed for transmission experiments.

_exptl_absorpt_coefficient_mu    ?
_exptl_absorpt_correction_type   ?
_exptl_absorpt_process_details   ?
_exptl_absorpt_correction_T_min  ?
_exptl_absorpt_correction_T_max  ?

#=============================================================================

# 7. EXPERIMENTAL DATA

_exptl_special_details           
; ?
;

# The following item is used to identify the equipment used to record 
# the powder pattern when the diffractogram was measured at a laboratory 
# other than the authors' home institution, e.g. when neutron or synchrotron
# radiation is used.

_pd_instr_location               
; ?
;
_pd_calibration_special_details  
# description of the method used
# to calibrate the instrument
; ?
;

_diffrn_ambient_temperature      ?
_diffrn_source                   
? # Put here: 'rotating-anode X-ray tube' or similar 
_diffrn_radiation_type           X-ray
_diffrn_source_target            ? # Put here the chemical symbol of the anode

_diffrn_radiation_monochromator  ?
_diffrn_measurement_device_type  ?
_diffrn_measurement_method       ?
_diffrn_detector_area_resol_mean ?
_diffrn_detector                 ?
_diffrn_detector_type            ? # make or model of detector
_pd_meas_scan_method             ? # options are 'step', 'cont',
# 'tof', 'fixed' or
# 'disp' (= dispersive)
_pd_meas_special_details         
;  ?
;

#  The following four items give details of the measured (not processed)
#  powder pattern.  Angles are in degrees.

_pd_meas_number_of_points        4109
_pd_meas_2theta_range_min        2.13600
_pd_meas_2theta_range_max        35.00000
_pd_meas_2theta_range_inc        0.008012

#=============================================================================

# 8. REFINEMENT DATA

_refine_special_details          
; ?
;

# Use the next field to give any special details about the fitting of the
# powder pattern.

_pd_proc_ls_special_details      
; ?
;

# The next three items are given as text.

_pd_proc_ls_profile_function     ?
_pd_proc_ls_background_function  ?
_pd_proc_ls_pref_orient_corr     
; ?
;

#  The following profile R-factors are NOT CORRECTED for background
#  The sum is extended to all non-excluded points.
#  These are the current CIF standard

_pd_proc_ls_prof_R_factor        0.6473
_pd_proc_ls_prof_wR_factor       0.9833
_pd_proc_ls_prof_wR_expected     0.4039

#  The following profile R-factors are CORRECTED for background
#  The sum is extended to all non-excluded points.
#  These items are not in the current CIF standard, but are defined above

_pd_proc_ls_prof_cR_factor       9.7526
_pd_proc_ls_prof_cwR_factor      6.2099
_pd_proc_ls_prof_cwR_expected    2.5511

#  The following items are not in the CIF standard, but are defined above

_pd_proc_ls_prof_chi2            5.9254
_pd_proc_ls_prof_echi2           6.2296

#  Items related to LS refinement

_refine_ls_R_I_factor            3.3799
_refine_ls_number_reflns         158
_refine_ls_number_parameters     61
_refine_ls_number_restraints     26

# The following four items apply to angular dispersive measurements.
# 2theta minimum, maximum and increment (in degrees) are for the 
# intensities used in the refinement.

_pd_proc_2theta_range_min        2.1554
_pd_proc_2theta_range_max        35.0194
_pd_proc_2theta_range_inc        0.008012
_pd_proc_wavelength              0.825850

_pd_block_diffractogram_id       ? # The id used for the block containing
# the powder pattern profile (section 11)

# Give appropriate details in the next two text fields.

_pd_proc_info_excluded_regions   ?
_pd_proc_info_data_reduction     ?

# The following items are used to identify the programs used.

_computing_data_collection       ?
_computing_structure_solution    ?
_computing_structure_refinement  FULLPROF
_computing_molecular_graphics    ?
_computing_publication_material  ?

#=============================================================================

# 9. ATOMIC COORDINATES AND DISPLACEMENT PARAMETERS

loop_
_atom_site_label
_atom_site_fract_x
_atom_site_fract_y
_atom_site_fract_z
_atom_site_U_iso_or_equiv
_atom_site_occupancy
_atom_site_adp_type
_atom_site_type_symbol
B1 0.86804 0.57162 0.34724 0.0148(14) 1.00000 Uiso B
H1 0.84335 0.63865 0.50935 0.06151 1.00000 Uiso H
H2 0.81012 0.58994 0.11080 0.06151 1.00000 Uiso H
H3 0.83076 0.49218 0.43112 0.06151 1.00000 Uiso H
H4 0.99267 0.56650 0.30503 0.06151 1.00000 Uiso H
Li1 0.50752 0.09557 0.36944 0.055(2) 1.00000 Uiso Li
B2 0.08537 0.09320 0.86374 0.0015(16) 1.00000 Uiso B
H5 0.17870 0.13795 0.99114 0.06151 1.00000 Uiso H
H6 -0.0307 0.11100 0.96526 0.06151 1.00000 Uiso H
H7 0.10723 0.00615 0.89977 0.06151 1.00000 Uiso H
H8 0.08590 0.11791 0.59836 0.06151 1.00000 Uiso H
Li2 0.36792 0.50441 0.83948 0.022(2) 1.00000 Uiso Li
N1 0.40313 0.21867 0.35152 0.0721(17) 1.00000 Uiso N
H9 0.44854 0.28332 0.28277 0.06151 1.00000 Uiso H
H10 0.37605 0.23660 0.57527 0.06151 1.00000 Uiso H
H11 0.30246 0.22802 0.25268 0.06151 1.00000 Uiso H

# Note: if the displacement parameters were refined anisotropically
# the U matrices should be given as for single-crystal studies.

#=============================================================================

# 10. DISTANCES AND ANGLES / MOLECULAR GEOMETRY 

_geom_special_details            ?

loop_
_geom_bond_atom_site_label_1
_geom_bond_atom_site_label_2
_geom_bond_site_symmetry_1
_geom_bond_site_symmetry_2
_geom_bond_distance
_geom_bond_publ_flag
? ? ? ? ? ?

loop_
_geom_contact_atom_site_label_1
_geom_contact_atom_site_label_2
_geom_contact_distance
_geom_contact_site_symmetry_1
_geom_contact_site_symmetry_2
_geom_contact_publ_flag
? ? ? ? ? ?

loop_
_geom_angle_atom_site_label_1
_geom_angle_atom_site_label_2
_geom_angle_atom_site_label_3
_geom_angle_site_symmetry_1
_geom_angle_site_symmetry_2
_geom_angle_site_symmetry_3
_geom_angle
_geom_angle_publ_flag
? ? ? ? ? ? ? ?

loop_
_geom_torsion_atom_site_label_1
_geom_torsion_atom_site_label_2
_geom_torsion_atom_site_label_3
_geom_torsion_atom_site_label_4
_geom_torsion_site_symmetry_1
_geom_torsion_site_symmetry_2
_geom_torsion_site_symmetry_3
_geom_torsion_site_symmetry_4
_geom_torsion
_geom_torsion_publ_flag
? ? ? ? ? ? ? ? ? ?

loop_
_geom_hbond_atom_site_label_D
_geom_hbond_atom_site_label_H
_geom_hbond_atom_site_label_A
_geom_hbond_site_symmetry_D
_geom_hbond_site_symmetry_H
_geom_hbond_site_symmetry_A
_geom_hbond_distance_DH
_geom_hbond_distance_HA
_geom_hbond_distance_DA
_geom_hbond_angle_DHA
_geom_hbond_publ_flag
? ? ? ? ? ? ? ? ? ? ?
