# Electronic Supplementary Material (ESI) for CrystEngComm.
# This journal is © The Royal Society of Chemistry 2015

#======================================================================

# CRYSTAL DATA

#----------------------------------------------------------------------

data_VESTA_phase_1


_pd_phase_name                         'O7Tc2'
_cell_length_a                         13.82512
_cell_length_b                         7.42410
_cell_length_c                         5.62753
_cell_volume                           577.60
_mol_weight                            308
_cell_angle_alpha                      90
_cell_angle_beta                       90
_cell_angle_gamma                      90
_symmetry_cell_setting                 'orthorhombic'
_symmetry_space_group_name_H-M         'P b c a'
_symmetry_Int_Tables_number            61

loop_
_space_group_symop_operation_xyz
x,y,z
0,0,0
x+1/2,-y+1/2,-z
-x,y+1/2,-z+1/2
-x+1/2,-y,z+1/2
-x,-y,-z
-x+1/2,y+1/2,z
x,-y+1/2,z+1/2
x+1/2,y,-z+1/2

loop_
   _atom_site_label
   _atom_site_occupancy
   _atom_site_fract_x
   _atom_site_fract_y
   _atom_site_fract_z
   _atom_site_adp_type
   _atom_site_B_iso_or_equiv
   _atom_site_type_symbol
   Tc1        1.0     0.107236      0.014026      0.200618     Biso  1.000000 Tc
   Tc2        1.0     0.892764      0.985974      0.799382     Biso  1.000000 Tc
   Tc3        1.0     0.392764      0.985974      0.700618     Biso  1.000000 Tc
   Tc4        1.0     0.607236      0.014026      0.299382     Biso  1.000000 Tc
   Tc5        1.0     0.892764      0.514026      0.299382     Biso  1.000000 Tc
   Tc6        1.0     0.107236      0.485974      0.700618     Biso  1.000000 Tc
   Tc7        1.0     0.607236      0.485974      0.799382     Biso  1.000000 Tc
   Tc8        1.0     0.392764      0.514026      0.200618     Biso  1.000000 Tc
   O1         1.0     0.000000      0.000000      0.000000     Biso  1.000000 O
   O2         1.0     0.500000      0.000000      0.500000     Biso  1.000000 O
   O3         1.0     0.000000      0.500000      0.500000     Biso  1.000000 O
   O4         1.0     0.500000      0.500000      0.000000     Biso  1.000000 O
   O5         1.0     0.121481      0.229248      0.297577     Biso  1.000000 O
   O6         1.0     0.878519      0.770752      0.702424     Biso  1.000000 O
   O7         1.0     0.378519      0.770752      0.797576     Biso  1.000000 O
   O8         1.0     0.621481      0.229248      0.202423     Biso  1.000000 O
   O9         1.0     0.878519      0.729248      0.202423     Biso  1.000000 O
   O10        1.0     0.121481      0.270752      0.797576     Biso  1.000000 O
   O11        1.0     0.621481      0.270752      0.702424     Biso  1.000000 O
   O12        1.0     0.378519      0.729248      0.297577     Biso  1.000000 O
   O13        1.0     0.209787      0.945323      0.062707     Biso  1.000000 O
   O14        1.0     0.790213      0.054677      0.937293     Biso  1.000000 O
   O15        1.0     0.290213      0.054677      0.562707     Biso  1.000000 O
   O16        1.0     0.709787      0.945323      0.437293     Biso  1.000000 O
   O17        1.0     0.790213      0.445323      0.437293     Biso  1.000000 O
   O18        1.0     0.209787      0.554677      0.562707     Biso  1.000000 O
   O19        1.0     0.709787      0.554677      0.937293     Biso  1.000000 O
   O20        1.0     0.290213      0.445323      0.062707     Biso  1.000000 O
   O21        1.0     0.086430      0.878936      0.440241     Biso  1.000000 O
   O22        1.0     0.913570      0.121064      0.559759     Biso  1.000000 O
   O23        1.0     0.413570      0.121064      0.940241     Biso  1.000000 O
   O24        1.0     0.586430      0.878936      0.059759     Biso  1.000000 O
   O25        1.0     0.913570      0.378936      0.059759     Biso  1.000000 O
   O26        1.0     0.086430      0.621064      0.940241     Biso  1.000000 O
   O27        1.0     0.586430      0.621064      0.559759     Biso  1.000000 O
   O28        1.0     0.413570      0.378936      0.440241     Biso  1.000000 O

loop_
   _geom_atom_site_label_1
   _geom_atom_site_label_2
   _geom_atom_site_label_3
   _geom_atom_site_label_4
   _geom_atom_site_label_5
   Tc5 O3 O9 O17 O25 

loop_
   _geom_bond_distance_label
   _geom_bond_distance
   Tc5-O3 1.86638
   Tc5-O9 1.69987
   Tc5-O17 1.69488
   Tc5-O25 1.70499

loop_
   _geom_bond_angle_label
   _geom_bond_angle
   O3-Tc5-O9 109.7943
   O3-Tc5-O17 111.7586
   O3-Tc5-O25 108.1552
   O9-Tc5-O17 109.4474
   O9-Tc5-O25 108.5777
   O17-Tc5-O25 109.0421

# start Validation Reply Form
_vrf_PLAT029_VESTA_phase_1
;
PROBLEM: _diffrn_measured_fraction_theta_full Low ....... 0.000 Note
RESPONSE: Our crystallography of Tc2O7 under 0 GPa external pressure,
derives from the prediction of first principles without experimental measures,
so the report doesn't include experimental parameters
;
_vrf_PLAT043_VESTA_phase_1
;
PROBLEM: Calculated and Reported Mol. Weight Differ by .. 309.82 Check 
RESPONSE:Our crystallography of Tc2O7 under 0 GPa external pressure,
derives from the prediction of first principles without experimental measures,
so the report doesn't include experimental parameters
;
_vrf_PLAT091_VESTA_phase_1
;
PROBLEM: No Wavelength found in CIF - 0.71073 Ang Assumed Please Check
RESPONSE: Our crystallography of Tc2O7 under 0 GPa external pressure,
derives from the prediction of first principles without experimental measures,
so the report doesn't include experimental parameters
;
_vrf_PLAT197_VESTA_phase_1
;
PROBLEM: Missing _cell_measurement_temperature Please Suppl
RESPONSE:Our crystallography of Tc2O7 under 0 GPa external pressure,
derives from the prediction of first principles without experimental measures,
so the report doesn't include experimental parameters
;
_vrf_PLAT198_VESTA_phase_1
;
PROBLEM: Missing _diffrn_ambient_temperature Please Suppl
RESPONSE: Our crystallography of Tc2O7 under 0 GPa external pressure,
derives from the prediction of first principles without experimental measures,
so the report doesn't include experimental parameters
;
# end Validation Reply Form
