# Electronic Supplementary Material (ESI) for Journal of Materials Chemistry A.
# This journal is © The Royal Society of Chemistry 2017

data_6K-goodfit

# phase info for K1.33 Mn8 O16 follows
_pd_phase_name  "K1.33 Mn8 O16"
_cell_length_a  9.822178
_cell_length_b  9.822178
_cell_length_c  2.855795
_cell_angle_alpha  90
_cell_angle_beta   90
_cell_angle_gamma  90
_cell_volume  275.513
_symmetry_cell_setting  tetragonal
_symmetry_space_group_name_H-M  "I 4/m"
loop_
    _space_group_symop_id
    _space_group_symop_operation_xyz
     1  x,y,z
     2  -y,x,z
     3  -x,-y,z
     4  y,-x,z
     5  -x,-y,-z
     6  y,-x,-z
     7  x,y,-z
     8  -y,x,-z
     9  1/2+x,1/2+y,1/2+z
    10  1/2-y,1/2+x,1/2+z
    11  1/2-x,1/2-y,1/2+z
    12  1/2+y,1/2-x,1/2+z
    13  1/2-x,1/2-y,1/2-z
    14  1/2+y,1/2-x,1/2-z
    15  1/2+x,1/2+y,1/2-z
    16  1/2-y,1/2+x,1/2-z

# ATOMIC COORDINATES AND DISPLACEMENT PARAMETERS
loop_ 
   _atom_site_label
   _atom_site_type_symbol
   _atom_site_fract_x
   _atom_site_fract_y
   _atom_site_fract_z
   _atom_site_occupancy
   _atom_site_adp_type
   _atom_site_U_iso_or_equiv
   _atom_site_symmetry_multiplicity
K1     K1+  0.00000     0.00000     0.437(15)   0.188      Uiso 0.027(9)   4   
Mn1    Mn4+ 0.35090(23) 0.16754(23) 0.00000     1.000      Uiso 0.0083(5)  8   
O1     O2-  0.1497(8)   0.2035(5)   0.00000     1.000      Uiso 0.0163(22) 8   
O2     O2-  0.5370(9)   0.1766(7)   0.00000     1.000      Uiso 0.0142(21) 8   

loop_  _atom_type_symbol _atom_type_number_in_cell
  K    0.75
  Mn   8
  O    16

# Note that Z affects _cell_formula_sum and _weight
_cell_formula_units_Z  8
_chemical_formula_sum  "K0.094 Mn O2"
_chemical_formula_weight  90.6
#--eof--eof--eof--eof--eof--eof--eof--eof--eof--eof--eof--eof--eof--eof--eof--#
