data_Ho10Mo2O21_publ

_pd_block_id
  2019-10-12T16:35|Ho10Mo2O21|y|Overall

_audit_creation_method  "from EXP file using GSAS2CIF"
_audit_creation_date                   2019-10-12T16:35
_audit_author_name                     y
_audit_update_record
; 2019-10-12T16:35  Initial CIF as created by GSAS2CIF
;

#=============================================================================
# this information describes the project, paper etc. for the CIF             #
# Acta Cryst. Section C papers and editorial correspondence is generated     #
# from the information in this section                                       #
#                                                                            #
#   (from)   CIF submission form for Rietveld refinements (Acta Cryst. C)    #
#                                                 Version 14 December 1998   #
#=============================================================================
# 1. SUBMISSION DETAILS

_publ_contact_author_name            ?   # Name of author for correspondence
_publ_contact_author_address             # Address of author for correspondence
; ?
;
_publ_contact_author_email           ?
_publ_contact_author_fax             ?
_publ_contact_author_phone           ?

_publ_contact_letter
; ?
;

_publ_requested_journal              ?
_publ_requested_coeditor_name        ?
_publ_requested_category             ?   # Acta C: one of CI/CM/CO/FI/FM/FO

#==============================================================================

# 2. PROCESSING SUMMARY (IUCr Office Use Only)

_journal_data_validation_number      ?

_journal_date_recd_electronic        ?
_journal_date_to_coeditor            ?
_journal_date_from_coeditor          ?
_journal_date_accepted               ?
_journal_date_printers_first         ?
_journal_date_printers_final         ?
_journal_date_proofs_out             ?
_journal_date_proofs_in              ?
_journal_coeditor_name               ?
_journal_coeditor_code               ?
_journal_coeditor_notes
; ?
;
_journal_techeditor_code             ?
_journal_techeditor_notes
; ?
;
_journal_coden_ASTM                  ?
_journal_name_full                   ?
_journal_year                        ?
_journal_volume                      ?
_journal_issue                       ?
_journal_page_first                  ?
_journal_page_last                   ?
_journal_paper_category              ?
_journal_suppl_publ_number           ?
_journal_suppl_publ_pages            ?

#==============================================================================

# 3. TITLE AND AUTHOR LIST

_publ_section_title
; ?
;
_publ_section_title_footnote
; ?
;

# The loop structure below should contain the names and addresses of all
# authors, in the required order of publication. Repeat as necessary.

loop_
        _publ_author_name
        _publ_author_footnote
        _publ_author_address
 ?                                   #<--'Last name, first name'
; ?
;
; ?
;

#==============================================================================

# 4. TEXT

_publ_section_synopsis
;  ?
;
_publ_section_abstract
; ?
;
_publ_section_comment
; ?
;
_publ_section_exptl_prep      # Details of the preparation of the sample(s)
                              # should be given here.
; ?
;
_publ_section_exptl_refinement
; ?
;
_publ_section_references
; ?
;
_publ_section_figure_captions
; ?
;
_publ_section_acknowledgements
; ?
;

#=============================================================================
# 5. OVERALL REFINEMENT & COMPUTING DETAILS

_refine_special_details
; ?
;
_pd_proc_ls_special_details
; ?
;

# The following items are used to identify the programs used.
_computing_molecular_graphics     ?
_computing_publication_material   ?

_refine_ls_weighting_scheme       ?
_refine_ls_weighting_details      ?
_refine_ls_hydrogen_treatment     ?
_refine_ls_extinction_method      ?
_refine_ls_extinction_coef        ?
_refine_ls_number_constraints     ?

_refine_ls_restrained_S_all       ?
_refine_ls_restrained_S_obs       ?

#==============================================================================
# 6. SAMPLE PREPARATION DATA

# (In the unusual case where multiple samples are used in a single
#  Rietveld study, this information should be moved into the phase
#  blocks)

# The following three fields describe the preparation of the material.
# The cooling rate is in K/min.  The pressure at which the sample was
# prepared is in kPa.  The temperature of preparation is in K.

_pd_prep_cool_rate                ?
_pd_prep_pressure                 ?
_pd_prep_temperature              ?

_pd_char_colour                   ?       # use ICDD colour descriptions
data_Ho10Mo2O21_overall

_refine_ls_shift/su_max                0.02
_refine_ls_shift/su_mean               0.00
_computing_structure_refinement        GSAS
_refine_ls_number_parameters           64
_refine_ls_goodness_of_fit_all         1.16
_refine_ls_number_restraints           0
_refine_ls_matrix_type                 full

# pointers to the phase blocks
loop_   _pd_phase_block_id
      2019-10-12T16:35|Ho10Mo2O21_phase1|y||
# pointers to the diffraction patterns
loop_   _pd_block_diffractogram_id
      ?

# Information for phase 1
data_Ho10Mo2O21_phase_1

_pd_block_id
  2019-10-12T16:35|Ho10Mo2O21_phase1|y||

#==============================================================================
# 7. CHEMICAL, STRUCTURAL AND CRYSTAL DATA

_pd_char_particle_morphology      ?

_chemical_name_systematic
; ?
;
_chemical_name_common             ?
_chemical_formula_moiety          ?
_chemical_formula_structural      ?
_chemical_formula_analytical      ?
_chemical_melting_point           ?
_chemical_compound_source         ?       # for minerals and
                                          # natural products
_symmetry_space_group_name_Hall   ?

_exptl_crystal_F_000               ?
_exptl_crystal_density_diffrn      ?
_exptl_crystal_density_meas        ?
_exptl_crystal_density_method      ?

_cell_measurement_temperature     ?

_cell_special_details
; ?
;

_geom_special_details             ?

# The following item identifies the program(s) used (if appropriate).
_computing_structure_solution     ?

#==============================================================================

# 8. Phase information from GSAS

_pd_phase_name                         35239.cif
_cell_length_a                         15.8751(6)
_cell_length_b                         10.53178(32)
_cell_length_c                         10.5672(4)
_cell_angle_alpha                      90.0
_cell_angle_beta                       90.0
_cell_angle_gamma                      90.0
_cell_volume                           1766.76(11)
_symmetry_cell_setting                 orthorhombic
_symmetry_space_group_name_H-M         "P b c n"
loop_ _symmetry_equiv_pos_site_id _symmetry_equiv_pos_as_xyz
       1 +x,+y,+z 
       2 -x+1/2,+y+1/2,+z 
       3 +x,-y,+z+1/2 
       4 -x+1/2,-y+1/2,+z+1/2 
      -1 -x,-y,-z 
      -2 +x+1/2,-y+1/2,-z 
      -3 -x,+y,-z+1/2 
      -4 +x+1/2,+y+1/2,-z+1/2 

# ATOMIC COORDINATES AND DISPLACEMENT PARAMETERS


loop_
      _atom_site_type_symbol
      _atom_site_label
      _atom_site_fract_x
      _atom_site_fract_y
      _atom_site_fract_z
      _atom_site_occupancy
      _atom_site_thermal_displace_type
      _atom_site_U_iso_or_equiv
      _atom_site_symmetry_multiplicity
Mo
Mo1     0.5868(10)   0.2438(25)   0.1193(12)   1.0        Uiso   0.00474(34)   8
Ho
Ho1     0.0732(9)   -0.0047(12)   0.1365(13)   1.0        Uiso   0.00474(34)   8
Ho
Ho2     0.2720(6)    0.2437(20)   0.1322(13)   1.0        Uiso   0.00474(34)   8
Ho
Ho3     0.0798(11)   0.4934(12)   0.1210(16)   1.0        Uiso   0.00474(34)   8
Ho
Ho4     0.6001(7)    0.7495(20)   0.1447(11)   1.0        Uiso   0.00474(34)   8
Ho
Ho5     0.7456(15)   0.0067(18)   0.1410(13)   1.0        Uiso   0.00474(34)   8
O-
O1      0.3408(11)   0.3857(20)  -0.0026(22)   1.0        Uiso   0.00474(34)   8
O-
O2      0.5473(10)   0.3710(17)   0.0176(19)   1.0        Uiso   0.00474(34)   8
O-
O3      0.3579(12)   0.3570(19)   0.2678(22)   1.0        Uiso   0.00474(34)   8
O-
O4      0.3209(15)   0.6172(21)   0.2186(17)   1.0        Uiso   0.00474(34)   8
O-
O5      0.5147(12)   0.1126(21)   0.0537(19)   1.0        Uiso   0.00474(34)   8
O-
O6      0.3246(14)   0.1975(16)   0.4721(17)   1.0        Uiso   0.00474(34)   8
O-
O7      0.6694(14)   0.9074(18)   0.0043(19)   1.0        Uiso   0.00474(34)   8
O-
O8      0.1434(12)   0.6331(21)   0.2525(20)   1.0        Uiso   0.00474(34)   8
O-
O9      0.1825(15)   0.3847(20)   0.2170(15)   1.0        Uiso   0.00474(34)   8
O-
O10     0.5          0.3023(25)   0.25         1.0        Uiso   0.00474(34)   4
O-
O11     0.5          0.6350(26)   0.25         1.0        Uiso   0.00474(34)   4
O-
O12     0.0          0.394        0.25         1.0        Uiso   0.00474(34)   4

loop_ _atom_type_symbol
      _atom_type_number_in_cell
                   Mo  8.0        
                   Ho 40.0        
                   O- 84.0        
 
# If you change Z, be sure to change all 3 of the following
_chemical_formula_sum                  "Ho10 Mo2 O21"
_chemical_formula_weight               2177.16
_cell_formula_units_Z                  4

# MOLECULAR GEOMETRY

loop_
      _geom_bond_atom_site_label_1
      _geom_bond_atom_site_label_2
      _geom_bond_distance
      _geom_bond_site_symmetry_1
      _geom_bond_site_symmetry_2
      _geom_bond_publ_flag
   ?   ?   ?   ?   ?   ?

loop_
      _geom_angle_atom_site_label_1
      _geom_angle_atom_site_label_2
      _geom_angle_atom_site_label_3
      _geom_angle
      _geom_angle_site_symmetry_1
      _geom_angle_site_symmetry_2
      _geom_angle_site_symmetry_3
      _geom_angle_publ_flag
   ?   ?   ?   ?   ?   ?   ?   ?
#--eof--eof--eof--eof--eof--eof--eof--eof--eof--eof--eof--eof--eof--eof--eof--#
