 
data_PRSHPBI3_alpha
 
_audit_creation_method              TOPAS_Academic
_publ_contact_author               'Masciocchi, Norberto'
_publ_contact_author_email          norberto.masciocchi@uninsubra.it
_journal_name_full                 ?




#==============================================================================
 
# CHEMICAL DATA
 
_chemical_name_systematic
;
(Protonated proton sponge) triiodoplumbate, alpha phase

;
_chemical_formula_sum             'C14 H19 I3 N2 Pb'
_chemical_formula_weight          803.23
_chemical_name_common  '(Protonated proton sponge) triiodoplumbate, alpha phase'
_chemical_melting_point           ?
_chemical_formula_moiety          ?

 
#==============================================================================
 
# POWDER SPECIMEN AND CRYSTAL DATA

loop_
 _atom_type_symbol
 _atom_type_description

 _atom_type_scat_source
 'C'  'C'    
 'International Tables Vol C Tables 4.2.6.8 and 6.1.1.4'
 'H'  'H'    
 'International Tables Vol C Tables 4.2.6.8 and 6.1.1.4'
 'I'  'I'   
 'International Tables Vol C Tables 4.2.6.8 and 6.1.1.4'
 'N'  'N'    
 'International Tables Vol C Tables 4.2.6.8 and 6.1.1.4'
 'Pb'  'Pb'   
 'International Tables Vol C Tables 4.2.6.8 and 6.1.1.4'
 
_symmetry_cell_setting            'Orthorhombic'
_symmetry_space_group_name_H-M    'Pbca'

 
loop_
	_symmetry_equiv_pos_as_xyz
	 'x, y, z '
	 '-x, y+1/2, -z+1/2 '
	 '-x+1/2, -y, z+1/2 '
	 '-x+1/2, y+1/2, z '
	 'x, -y+1/2, z+1/2 '
	 '-x, -y, -z '
	 'x+1/2, -y+1/2, -z '
	 'x+1/2, y, -z+1/2 '
 
_cell_length_a 28.8862(4)
_cell_length_b 18.1330(2)
_cell_length_c 8.02619(10)
_cell_angle_alpha 90
_cell_angle_beta 90
_cell_angle_gamma 90
_cell_volume 4204.05(9)
_cell_formula_units_Z             8
_cell_measurement_temperature     293(2)
_cell_measurement_reflns_used     ?
_cell_measurement_theta_min       ?
_cell_measurement_theta_max       ?

 
#==============================================================================
 
_pd_calibration_special_details      
; ?
;
_cell_special_details
; ?
;

_exptl_crystal_density_diffrn     2.538
_exptl_crystal_density_meas       ?
_exptl_crystal_density_method     'not measured'
_exptl_crystal_F_000              2864

# The next three fields give the specimen dimensions in mm.  The equatorial 
# plane contains the incident and diffracted beam.
_pd_spec_size_axial               15      # perpendicular to 
                                          # equatorial plane

_pd_spec_size_equat               20      # parallel to 
                                          # scattering vector 
                                          # in transmission

_pd_spec_size_thick               0.05    # parallel to 
                                          # scattering vector 
                                          # in reflection

# The next five fields are character fields that describe the specimen.

_pd_spec_mounting                          
; packed powder pellet
;
_pd_spec_mount_mode         'reflection'  # options are 'reflection' 
                                          # or 'transmission'

_pd_spec_shape              'flat_sheet'  # options are 'cylinder',
                                          # 'flat_sheet' or 'irregular'

_pd_char_particle_morphology plate-like                      
_pd_char_colour             'yellow'       # use ICDD colour descriptions



# The next four fields are normally only needed for transmission experiments.
_exptl_absorpt_coefficient_mu     49.62 #mm-1
_exptl_absorpt_correction_type    'none'        
_exptl_absorpt_correction_T_min   ?        
_exptl_absorpt_correction_T_max   ?        

#==============================================================================

# EXPERIMENTAL DATA

_exptl_special_details
; ?
;

# This following item is used to identify the equipment used to record the
# powder pattern when the diffractogram was measured at a laboratory
# other than the authors' home institution, e.g. when neutron or synchrotron
# radiation is used.

_pd_instr_location
; ?
;

_diffrn_ambient_temperature      298                    
_diffrn_source_target            Cu                                     
_diffrn_source_type              'sealed X-ray tube'
_diffrn_measurement_device_type  'Bruker AXS D8 Advance'       
_diffrn_detector_type            'Bruker AXS Lynxeye linear PSD'        
_pd_meas_scan_method             'step'         # options are 'step', 'cont',
                                                # 'tof', 'fixed' or
                                                # 'disp' (= dispersive)
_pd_meas_special_details
;  ?
;

# The following six items are used for angular dispersive measurements only.

loop_
    _diffrn_radiation_type  'Cu K\a'                 
    _diffrn_radiation_wavelength   1.5418          
 #      CuK\a~1~ 1.54056
 #      CuK\a~2~ 1.54439
_diffrn_radiation_monochromator   'Nickel filter'                

# The following four items give details of the measured (not processed)
# powder pattern.  Angles are in degrees.

_pd_meas_number_of_points       5051                                     
_pd_meas_2theta_range_min          4                   
_pd_meas_2theta_range_max        105                   
_pd_meas_2theta_range_inc          0.02

# The following three items are used for time-of-flight measurements only.

_pd_instr_dist_src/spec           ?                    
_pd_instr_dist_spec/detc          ?                    
_pd_meas_2theta_fixed             ?                    

# The following fields are used to identify the programs used.

_computing_data_collection        ?
_computing_cell_refinement        
;
 TOPAS-R v. 3.0, Bruker AXS, 2005, Karlsruhe, Germany
;
_computing_data_reduction         ?
_computing_structure_solution     
;
 TOPAS-R v. 3.0, Bruker AXS, 2005, Karlsruhe, Germany
;
_computing_structure_refinement   
;
 TOPAS-Academic A.A.Coelho
;
_computing_molecular_graphics     ?
_computing_publication_material   ?

#==============================================================================

# REFINEMENT DATA

# Use the next field to give any special details about the fitting of the
# powder pattern.

_pd_proc_ls_special_details

;   

Rotate_about_points(60, N2, C12, "H10 H11 H12")
Rotate_about_axies 
(@  141.99693`_0.57381 , @ -150.50262`_0.47393 ,   @  4.06080`_0.51520)
Translate(@ -0.32277`_0.00049, @ 0.35918`_0.00051  @ -0.25796`_0.00219)  
      
for the rigid body described by:
	
rigid
prm !cn  1.50
prm !cc  1.39
z_matrix C1 
z_matrix C2  C1  =cc;
z_matrix C3  C2  =cc; C1  120 
z_matrix C4  C3  =cc; C2  120 C1 0
z_matrix C5  C4  =cc; C3  120 C2 0
z_matrix C6  C5  =cc; C4  120 C3 0
z_matrix C7  C1  =cc; C2  120 C5 180
z_matrix C8  C7  =cc; C1  120 C2 0
z_matrix C9  C8  =cc; C7  120 C1 0
z_matrix C10 C9  =cc; C8  120 C7 0
z_matrix H1  C10 0.95 C2  120 C8 180
z_matrix H2  C9  0.95 C10 120 H1 0
z_matrix H3  C8  0.95 C9  120 H2 0
z_matrix H4  C5  0.95 C6  120 C1 180
z_matrix H5  C4  0.95 C5  120 H4 0
z_matrix H6  C3  0.95 C4  120 H5 0
z_matrix N1  C7  =cn-0.04; C1  120 C6 0
z_matrix N2  C6  =cn-0.04; C1  120 C7 0
z_matrix C11 N2  =cn; C1  120 C5 60
z_matrix C12 N2  =cn; C1  120 C5 -60
z_matrix C13 N1  =cn; C1  120 C8 60
z_matrix C14 N1  =cn; C1  120 C8 -60
z_matrix H7  C11 0.95 N2  110 C6 -30
z_matrix H8  C11 0.95 N2  110 C6 120
z_matrix H9  C11 0.95 N2  110 C6 210
z_matrix H10 C12 0.95 N2  110 C6 -30
z_matrix H11 C12 0.95 N2  110 C6 120
z_matrix H12 C12 0.95 N2  110 C6 210
z_matrix H13 C13 0.95 N1  110 C7 -30
z_matrix H14 C13 0.95 N1  110 C7 120
z_matrix H15 C13 0.95 N1  110 C7 210
z_matrix H16 C14 0.95 N1  110 C7 -30
z_matrix H17 C14 0.95 N1  110 C7 120
z_matrix H18 C14 0.95 N1  110 C7 210
z_matrix H19 N1  1.25 C7  110 C1 0 
;
 
# The next three items are given as text
_pd_proc_ls_profile_function      'fundamental parameters approach'  
_pd_proc_ls_background_function   'Chebychev polynomial'     
_pd_proc_ls_pref_orient_corr      ?
_pd_proc_ls_prof_R_factor         0.071         
_pd_proc_ls_prof_wR_factor        0.099         
_pd_proc_ls_prof_wR_expected      0.010        

_refine_special_details
; ?
;

_refine_ls_structure_factor_coef     Inet
_refine_ls_matrix_type               fullcycle
_refine_ls_weighting_scheme          ?   # '1/[Y~i~]'
_refine_ls_hydrogen_treatment        ?
_refine_ls_extinction_method         none        
_refine_ls_extinction_coef           ?           
_refine_ls_number_parameters         43
_refine_ls_number_restraints         0
_refine_ls_number_constraints        ?
# The following item is 'CHI squared'
_refine_ls_goodness_of_fit_all       9.9

_refine_ls_restrained_S_all          ?           
_refine_ls_restrained_S_obs          ?
_refine_ls_shift/su_max             .01
_refine_ls_shift/su_mean             ?


# The following four items apply to angular dispersive measurements.
# 2theta minimum, maximum and increment (in degrees) are for the 
# intensities used in the refinement.
_pd_proc_2theta_range_min          5             
_pd_proc_2theta_range_max        105             
_pd_proc_2theta_range_inc          0.02

loop_
      _pd_proc_wavelength       1.540562    1.544390   

_pd_block_diffractogram_id        ?            # The id used for the block
                                               # containing the powder 
                                               # pattern profile (section 11).

# Give appropriate details in the next two text fields.
_pd_proc_info_excluded_regions    ?             
_pd_proc_info_data_reduction      ?

#==============================================================================


 
loop_
_atom_site_label
_atom_site_type_symbol
_atom_site_symmetry_multiplicity
_atom_site_fract_x
_atom_site_fract_y
_atom_site_fract_z
_atom_site_occupancy
_atom_site_B_iso_or_equiv
Pb Pb  8 -0.07653(18) 0.2488(3)   0.0382(5)  1 1.86(6)
I1 I   8 -0.1537(2)   0.1777(3)  -0.2003(10) 1 1.86(6)
I2 I   8 0.0019(2)    0.1859(3)  -0.2054(10) 1 1.86(6)
I3 I   8 -0.0770(3)   0.3930(3)  -0.2218(9)  1 1.86(6)
C1 C   8 -0.3228(5)   0.3592(5)  -0.258(2)   1 1.86(6)
C2 C   8 -0.3020(6)   0.3142(9)  -0.139(2)   1 1.86(6)
C3 C   8 -0.3279(9)   0.2876(11) -0.006(3)   1 1.86(6)
C4 C   8 -0.3744(9)   0.3060(11)  0.009(3)   1 1.86(6)
C5 C   8 -0.3951(6)   0.3510(12) -0.110(3)   1 1.86(6)
C6 C   8 -0.3693(5)   0.3776(9)  -0.243(3)   1 1.86(6)
C7 C   8 -0.2970(6)   0.3858(7)  -0.391(2)   1 1.86(6)
C8 C   8 -0.2504(6)   0.3674(12) -0.406(3)   1 1.86(6)
C9 C   8 -0.2297(5)   0.3224(16) -0.287(4)   1 1.86(6)
C10 C  8 -0.2555(7)   0.2958(14) -0.154(3)   1 1.86(6)
C11 C  8 -0.4145(9)   0.4827(16) -0.265(4)   1 1.86(6)
C12 C  8 -0.4338(6)   0.382(2)   -0.415(4)   1 1.86(6)
C13 C  8 -0.3053(11)  0.3970(16) -0.677(2)   1 1.86(6)
C14 C  8 -0.2861(12)  0.4972(11) -0.527(4)   1 1.86(6)
N1 N   8 -0.3187(9)   0.4330(11) -0.516(3)   1 1.86(6)
N2 N   8 -0.3911(7)   0.4248(15) -0.368(3)   1 1.86(6)
H1 H   8 -0.2413(9)   0.2651(19) -0.072(4)   1 1.86(6)
H2 H   8 -0.1979(6)   0.310(2)   -0.297(4)   1 1.86(6)
H3 H   8 -0.2328(8)   0.3855(14) -0.497(3)   1 1.86(6)
H4 H   8 -0.4269(6)   0.3636(16) -0.100(4)   1 1.86(6)
H5 H   8 -0.3921(11)  0.2879(14)  0.100(3)   1 1.86(6)
H6 H   8 -0.3137(11)  0.2569(15)  0.075(3)   1 1.86(6)
H7 H   8 -0.4234(9)   0.4626(16) -0.160(4)   1 1.86(6)
H8 H   8 -0.4027(12)  0.5300(15) -0.292(5)   1 1.86(6)
H9 H   8 -0.4414(10)  0.500(2)   -0.320(5)   1 1.86(6)
H10 H  8 -0.4442(5)   0.354(2)   -0.323(4)   1 1.86(6)
H11 H  8 -0.4508(8)   0.409(3)   -0.497(5)   1 1.86(6)
H12 H  8 -0.4272(7)   0.350(2)   -0.505(4)   1 1.86(6)
H13 H  8 -0.2762(11)  0.3731(15) -0.666(3)   1 1.86(6)
H14 H  8 -0.3323(12)  0.383(2)   -0.737(2)   1 1.86(6)
H15 H  8 -0.3031(13)  0.4330(19) -0.763(3)   1 1.86(6)
H16 H  8 -0.2712(11)  0.5046(9)  -0.423(4)   1 1.86(6)
H17 H  8 -0.2745(13)  0.5016(14) -0.637(4)   1 1.86(6)
H18 H  8 -0.3027(14)  0.5406(12) -0.556(4)   1 1.86(6)
H19 H  8 -0.3604(9)   0.4428(14) -0.480(3)   1 1.86(6)
