
data_NPHDI
_audit_creation_method              TOPAS_Academic
_publ_contact_author               'Masciocchi, Norberto'
_publ_contact_author_email          norberto.masciocchi@uninsubra.it
_journal_name_full                 'Journal of Materials Chemistry C'


#==============================================================================

# CHEMICAL DATA
 
_chemical_name_systematic
;
1,4,5,8-Naphthalenetetracarboxyl-phenylhydrazinedimide 

;
_chemical_formula_sum             'C26 H16 N4 O4'
_chemical_formula_weight          448.43 
_chemical_name_common  '1,4,5,8-Naphthalenetetracarboxyl-phenylhydrazinedimide de'
_chemical_melting_point           ?
_chemical_formula_moiety          'C26 H16 N4 O4'

 
#==============================================================================
# POWDER SPECIMEN AND CRYSTAL DATA

loop_
 _atom_type_symbol
 _atom_type_description
 _atom_type_scat_source
 'C'  'C'    
 'International Tables Vol C Tables 4.2.6.8 and 6.1.1.4'
 'H'  'H'    
 'International Tables Vol C Tables 4.2.6.8 and 6.1.1.4'
 'N'  'N'   
 'International Tables Vol C Tables 4.2.6.8 and 6.1.1.4'
 'O'  'O'    
 'International Tables Vol C Tables 4.2.6.8 and 6.1.1.4'


_symmetry_cell_setting            'Monoclinic'
_symmetry_space_group_name_H-M    'P21/n'

_chemical_name_mineral ?
_cell_length_a 20.9559(16)
_cell_length_b 5.3945(3)
_cell_length_c 9.2901(6)
_cell_angle_alpha 90
_cell_angle_beta 96.132(5)
_cell_angle_gamma 90
_cell_volume 1044.20(12)
_cell_formula_units_Z             2
_cell_measurement_temperature     293(2)
_cell_measurement_reflns_used     ?
_cell_measurement_theta_min       ?
_cell_measurement_theta_max       ?

loop_
	_symmetry_equiv_pos_as_xyz
	 'x, y, z '
	 '-x+1/2, y+1/2, -z+1/2 '
	 '-x, -y, -z '
	 'x+1/2, -y+1/2, z+1/2 '

#==============================================================================
 
_pd_calibration_special_details      
; ?
;
_cell_special_details
; ?
;

_exptl_crystal_density_diffrn     1.426
_exptl_crystal_density_meas       ?
_exptl_crystal_density_method     'not measured'
_exptl_crystal_F_000              ?

# The next three fields give the specimen dimensions in mm.  The equatorial 
# plane contains the incident and diffracted beam.
_pd_spec_size_axial               15      # perpendicular to 
                                          # equatorial plane

_pd_spec_size_equat               20      # parallel to 
                                          # scattering vector 
                                          # in transmission

_pd_spec_size_thick               0.02    # parallel to 
                                          # scattering vector 
                                          # in reflection

# The next five fields are character fields that describe the specimen.

_pd_spec_mounting                          
; packed powder pellet
;
_pd_spec_mount_mode         'reflection'  # options are 'reflection' 
                                          # or 'transmission'

_pd_spec_shape              'flat_sheet'  # options are 'cylinder',
                                          # 'flat_sheet' or 'irregular'

_pd_char_particle_morphology 'unknown'                      
_pd_char_colour             'brown'       # use ICDD colour descriptions



# The next four fields are normally only needed for transmission experiments.
_exptl_absorpt_coefficient_mu     0.82 #mm-1
_exptl_absorpt_correction_type    'none'        
_exptl_absorpt_correction_T_min   ?        
_exptl_absorpt_correction_T_max   ?        

#==============================================================================

# EXPERIMENTAL DATA

_exptl_special_details
; ?
;

# This following item is used to identify the equipment used to record the
# powder pattern when the diffractogram was measured at a laboratory
# other than the authors' home institution, e.g. when neutron or synchrotron
# radiation is used.

_pd_instr_location
; ?
;

_diffrn_ambient_temperature      293                    
_diffrn_source_target            Cu                                     
_diffrn_source_type              'sealed X-ray tube'
_diffrn_measurement_device_type  'Bruker AXS D8 Advance'       
_diffrn_detector_type            'Bruker AXS Lynxeye linear PSD'        
_pd_meas_scan_method             'step'         # options are 'step', 'cont',
                                                # 'tof', 'fixed' or
                                                # 'disp' (= dispersive)
_pd_meas_special_details
;  ?
;

# The following six items are used for angular dispersive measurements only.

loop_
    _diffrn_radiation_type  'Cu K\a'                 
    _diffrn_radiation_wavelength   1.5418          
 #      CuK\a~1~ 1.54056
 #      CuK\a~2~ 1.54439
_diffrn_radiation_monochromator   'Nickel filter'                

# The following four items give details of the measured (not processed)
# powder pattern.  Angles are in degrees.

_pd_meas_number_of_points       5001                                     
_pd_meas_2theta_range_min          5                   
_pd_meas_2theta_range_max        105                   
_pd_meas_2theta_range_inc          0.02

# The following three items are used for time-of-flight measurements only.

_pd_instr_dist_src/spec           ?                    
_pd_instr_dist_spec/detc          ?                    
_pd_meas_2theta_fixed             ?                    

# The following fields are used to identify the programs used.

_computing_data_collection        ?
_computing_cell_refinement        
;
 TOPAS-R v. 3.0, Bruker AXS, 2005, Karlsruhe, Germany
;
_computing_data_reduction         ?
_computing_structure_solution     
;
 TOPAS-R v. 3.0, Bruker AXS, 2005, Karlsruhe, Germany
;
_computing_structure_refinement   
;
 TOPAS-Academic A.A.Coelho
;
_computing_molecular_graphics     ?
_computing_publication_material   ?

#==============================================================================

# REFINEMENT DATA

# Use the next field to give any special details about the fitting of the
# powder pattern.

_pd_proc_ls_special_details

;   

Rotate_about_points(@  95.18241`_0.12554 , N1 , N2 , " Hn C8 C9 C10 C11 C12 C13 H6 H7 H8 H9 H10")       	
Rotate_about_points(@ -277.62995`_0.17002, N2 , C8 , " C9 C10 C11 C12 C13 H6 H7 H8 H9 H10")      
Rotate_about_axies (@  15.61494`_0.07100 , @  221.27543`_0.04006 , @ -141.23781`_0.09366 )
Translate(0.5, 0.5, 0.5)
      
for the rigid body described by:
	
rigid             
     
z_matrix H
z_matrix C1   H   0.70
z_matrix C2   C1  1.40   H  120
z_matrix C3   C2  1.40   C1 120   H   0
z_matrix H3   C3  0.95   C2 120   C1 180
z_matrix C4   C1  1.40   C2 120   C3 180
z_matrix C5   C4  1.40   C1 120   C2 180
z_matrix H5   C5  0.95   C4 120   C1 180
z_matrix C6   C2  1.48   C1 120   H  180
z_matrix C7   C4  1.48   C1 120   H  180
z_matrix O1   C6  1.21   C2 120   C1 180
z_matrix O2   C7  1.21   C4 120   C1 180
z_matrix N1   C6  1.40   C2 120   C1   0
z_matrix N2   N1  1.40   C6 120   C2 180
z_matrix Hn   N2  0.90   N1 120   C6 180
z_matrix C8   N2  1.40   N1 120   C6   0
z_matrix C9   C8  1.39   N2 120   N1  90
z_matrix C10  C9  1.39   C8 120   N2 180
z_matrix C11  C10 1.39   C9 120   C8   0
z_matrix C12  C11 1.39   C10 120  C9   0
z_matrix C13  C12 1.39   C11 120  C10  0
z_matrix H6   C9  0.95   C8  120  N2    0 
z_matrix H7   C10 0.95   C9  120  C8  180  
z_matrix H8   C12 0.95   C11 120  C10 180 
z_matrix H9   C13 0.95   C12 120  C8  180  
z_matrix H10  C11 0.95   C10 120  C9  180 
 
;
 
# The next three items are given as text
_pd_proc_ls_profile_function      'fundamental parameters approach'  
_pd_proc_ls_background_function   'Chebychev polynomial'     
_pd_proc_ls_pref_orient_corr      ?
_pd_proc_ls_prof_R_factor         0.048         
_pd_proc_ls_prof_wR_factor        0.067         
_pd_proc_ls_prof_wR_expected      0.007        

_refine_special_details
; ?
;

_refine_ls_structure_factor_coef     Inet
_refine_ls_matrix_type               fullcycle
_refine_ls_weighting_scheme          ?   # '1/[Y~i~]'
_refine_ls_hydrogen_treatment        ?
_refine_ls_extinction_method         none        
_refine_ls_extinction_coef           ?           
_refine_ls_number_parameters         33
_refine_ls_number_restraints         0
_refine_ls_number_constraints        ?
# The following item is 'CHI squared'
_refine_ls_goodness_of_fit_all       9.1

_refine_ls_restrained_S_all          ?           
_refine_ls_restrained_S_obs          ?
_refine_ls_shift/su_max             .01
_refine_ls_shift/su_mean             ?


# The following four items apply to angular dispersive measurements.
# 2theta minimum, maximum and increment (in degrees) are for the 
# intensities used in the refinement.
_pd_proc_2theta_range_min          7             
_pd_proc_2theta_range_max        105             
_pd_proc_2theta_range_inc          0.02

loop_
      _pd_proc_wavelength       1.540562    1.544390   

_pd_block_diffractogram_id        ?            # The id used for the block
                                               # containing the powder 
                                               # pattern profile (section 11).

# Give appropriate details in the next two text fields.
_pd_proc_info_excluded_regions    ?             
_pd_proc_info_data_reduction      ?

#==============================================================================


loop_
_atom_site_label
_atom_site_type_symbol
_atom_site_symmetry_multiplicity
_atom_site_fract_x
_atom_site_fract_y
_atom_site_fract_z
_atom_site_occupancy
_atom_site_B_iso_or_equiv
H H   2 0.5 0.5 0.5 0 3.39(16) # Center of mass
C1 C   4 0.51291(5) 0.58484(13) 0.45400(4) 1 3.39(16)
C2 C   4 0.55653(13) 0.7649(4) 0.51147(14) 1 3.39(16)
C3 C   4 0.57433(13) 0.7753(5) 0.66095(15) 1 3.39(16)
H3 H   4 0.60393(18) 0.8975(7) 0.7000(2) 1 3.39(16)
C4 C   4 0.49512(9) 0.5744(2) 0.30452(3) 1 3.39(16)
C5 C   4 0.45150(8) 0.3944(4) 0.24704(7) 1 3.39(16)
H5 H   4 0.43942(11) 0.3873(5) 0.14561(8) 1 3.39(16)
C6 C   4 0.5838(2) 0.9443(7) 0.4142(2) 1 3.39(16)
C7 C   4 0.52241(18) 0.7538(5) 0.20726(12) 1 3.39(16)
O1 O   4 0.6215(3) 1.0999(9) 0.4639(3) 1 3.39(16)
O2 O   4 0.5070(2) 0.7448(6) 0.07807(11) 1 3.39(16)
N1 N   4 0.5660(3) 0.9339(7) 0.2647(2) 1 3.39(16)
C8 C   4 0.6459(4) 1.0395(14) 0.1043(4) 1 3.39(16)
C9 C   4 0.6670(5) 1.1953(17) 0.0000(7) 1 3.39(16)
C10 C   4 0.7206(6) 1.132(2) -0.0679(9) 1 3.39(16)
C11 C   4 0.7532(6) 0.912(3) -0.0316(10) 1 3.39(16)
C12 C   4 0.7321(5) 0.756(2) 0.0726(9) 1 3.39(16)
C13 C   4 0.6785(3) 0.8200(18) 0.1406(6) 1 3.39(16)
N2 N   4 0.5919(4) 1.1036(10) 0.1727(3) 1 3.39(16)
H6 H   4 0.6447(5) 1.3453(15) -0.0248(7) 1 3.39(16)
H7 H   4 0.7351(7) 1.238(2) -0.1392(11) 1 3.39(16)
H8 H   4 0.7544(5) 0.606(3) 0.0974(10) 1 3.39(16)
H9 H   4 0.6640(3) 0.7134(16) 0.2118(6) 1 3.39(16)
H10 H   4 0.7899(7) 0.869(3) -0.0781(12) 1 3.39(16)
Hn H   4 0.5737(4) 1.2538(9) 0.1576(4) 1 3.39(16)
