# Electronic Supplementary Material (ESI) for Journal of Materials Chemistry A.
# This journal is © The Royal Society of Chemistry 2022

####################################################################### 
# 
# This file contains crystal structure data downloaded from the 
# Cambridge Structural Database (CSD) hosted by the Cambridge 
# Crystallographic Data Centre (CCDC).
# 
# Full information about CCDC data access policies and citation 
# guidelines are available at http://www.ccdc.cam.ac.uk/access/V1 
# 
# Audit and citation data items may have been added by the CCDC. 
# Please retain this information to preserve the provenance of 
# this file and to allow appropriate attribution of the data. 
# 
#######################################################################

data_d20708
_database_code_depnum_ccdc_archive 'CCDC 2089952'
loop_
_audit_author_name
_audit_author_address
'Ting-Shen Kuo'
;National Taiwan Normal University
Taiwan
;
_audit_update_record             
;
2021-06-15 deposited with the CCDC.	2022-04-13 downloaded from the CCDC.
;

_audit_creation_method           SHELXL-97
_chemical_name_systematic        '[CuL(Py)2]n'
_chemical_name_common            ?
_chemical_melting_point          ?
_chemical_formula_moiety         'C18 H10 Cu N4 O4'
_chemical_formula_sum            'C18 H10 Cu N4 O4'
_chemical_formula_weight         409.84

loop_
_atom_type_symbol
_atom_type_description
_atom_type_scat_dispersion_real
_atom_type_scat_dispersion_imag
_atom_type_scat_source
C C 0.0033 0.0016 'International Tables Vol C Tables 4.2.6.8 and 6.1.1.4'
H H 0.0000 0.0000 'International Tables Vol C Tables 4.2.6.8 and 6.1.1.4'
Cu Cu 0.3201 1.2651 'International Tables Vol C Tables 4.2.6.8 and 6.1.1.4'
N N 0.0061 0.0033 'International Tables Vol C Tables 4.2.6.8 and 6.1.1.4'
O O 0.0106 0.0060 'International Tables Vol C Tables 4.2.6.8 and 6.1.1.4'

_symmetry_cell_setting           triclinic
_symmetry_space_group_name_H-M   'P -1'

loop_
_symmetry_equiv_pos_as_xyz
'x, y, z'
'-x, -y, -z'

_cell_length_a                   6.2604(8)
_cell_length_b                   8.0667(9)
_cell_length_c                   8.9610(11)
_cell_angle_alpha                72.023(3)
_cell_angle_beta                 75.573(4)
_cell_angle_gamma                85.059(3)
_cell_volume                     416.85(9)
_cell_formula_units_Z            1
_cell_measurement_temperature    200(2)
_cell_measurement_reflns_used    2497
_cell_measurement_theta_min      2.458
_cell_measurement_theta_max      24.186

_exptl_crystal_description       prism
_exptl_crystal_colour            brown
_exptl_crystal_size_max          0.09
_exptl_crystal_size_mid          0.04
_exptl_crystal_size_min          0.01
_exptl_crystal_density_meas      ?
_exptl_crystal_density_diffrn    1.633
_exptl_crystal_density_method    'not measured'
_exptl_crystal_F_000             207
_exptl_absorpt_coefficient_mu    1.344
_exptl_absorpt_correction_type   multi-scan
_exptl_absorpt_correction_T_min  0.8886
_exptl_absorpt_correction_T_max  0.9867
_exptl_absorpt_process_details   SADABS

_exptl_special_details           
;
 ?
;

_diffrn_ambient_temperature      200(2)
_diffrn_radiation_wavelength     0.71073
_diffrn_radiation_type           MoK\a
_diffrn_radiation_source         'fine-focus sealed tube'
_diffrn_radiation_monochromator  graphite
_diffrn_measurement_device_type  'D8 Venture'
_diffrn_measurement_method       ?
_diffrn_detector_area_resol_mean ?
_diffrn_standards_number         ?
_diffrn_standards_interval_count ?
_diffrn_standards_interval_time  ?
_diffrn_standards_decay_%        ?
_diffrn_reflns_number            9033
_diffrn_reflns_av_R_equivalents  0.0629
_diffrn_reflns_av_sigmaI/netI    0.0441
_diffrn_reflns_limit_h_min       -7
_diffrn_reflns_limit_h_max       7
_diffrn_reflns_limit_k_min       -9
_diffrn_reflns_limit_k_max       9
_diffrn_reflns_limit_l_min       -10
_diffrn_reflns_limit_l_max       10
_diffrn_reflns_theta_min         2.46
_diffrn_reflns_theta_max         25.03
_reflns_number_total             1468
_reflns_number_gt                1283
_reflns_threshold_expression     >2sigma(I)

_computing_data_collection       ?
_computing_cell_refinement       ?
_computing_data_reduction        ?
_computing_structure_solution    'SHELXL-2014/7 (Sheldrick, 2014)'
_computing_structure_refinement  'SHELXL-2014/7 (Sheldrick, 2014)'
_computing_molecular_graphics    'Ortep-3 for Windows (Farrugia, 1997)'
_computing_publication_material  'WinGX publication routines (Farrugia, 2005)'

_refine_special_details          
;
 Refinement of F² against ALL reflections.  The weighted R-factor wR and
 goodness of fit S are based on F², conventional R-factors R are based
 on F, with F set to zero for negative F². The threshold expression of
 F² > 2sigma(F²) is used only for calculating R-factors(gt) etc. and is
 not relevant to the choice of reflections for refinement.  R-factors based
 on F² are statistically about twice as large as those based on F, and R-
 factors based on ALL data will be even larger.
;

_refine_ls_structure_factor_coef Fsqd
_refine_ls_matrix_type           full
_refine_ls_weighting_scheme      calc
_refine_ls_weighting_details     
'calc w=1/[σ²(Fo²)+(0.0147P)²+0.3940P] where P=(Fo²+2Fc²)/3'
_atom_sites_solution_primary     direct
_atom_sites_solution_secondary   difmap
_atom_sites_solution_hydrogens   geom
_refine_ls_hydrogen_treatment    constr
_refine_ls_extinction_method     none
_refine_ls_extinction_coef       ?
_refine_ls_number_reflns         1468
_refine_ls_number_parameters     124
_refine_ls_number_restraints     0
_refine_ls_R_factor_all          0.0464
_refine_ls_R_factor_gt           0.0334
_refine_ls_wR_factor_ref         0.0660
_refine_ls_wR_factor_gt          0.0598
_refine_ls_goodness_of_fit_ref   1.067
_refine_ls_restrained_S_all      1.067
_refine_ls_shift/su_max          0.000
_refine_ls_shift/su_mean         0.000

loop_
_atom_site_label
_atom_site_type_symbol
_atom_site_fract_x
_atom_site_fract_y
_atom_site_fract_z
_atom_site_U_iso_or_equiv
_atom_site_adp_type
_atom_site_occupancy
_atom_site_symmetry_multiplicity
_atom_site_calc_flag
_atom_site_refinement_flags
_atom_site_disorder_assembly
_atom_site_disorder_group
C1 C 0.8003(5) 0.9815(3) 0.7122(3) 0.0249(7) Uani 1 1 d . . .
H1 H 0.8846 1.0592 0.6170 0.030 Uiso 1 1 calc R . .
C2 C 0.8811(5) 0.9335(4) 0.8488(3) 0.0310(7) Uani 1 1 d . . .
H2 H 1.0183 0.9768 0.8473 0.037 Uiso 1 1 calc R . .
C3 C 0.7599(5) 0.8215(4) 0.9882(4) 0.0349(8) Uani 1 1 d . . .
H3 H 0.8111 0.7868 1.0847 0.042 Uiso 1 1 calc R . .
C4 C 0.5626(5) 0.7611(4) 0.9843(4) 0.0327(7) Uani 1 1 d . . .
H4 H 0.4762 0.6829 1.0781 0.039 Uiso 1 1 calc R . .
C5 C 0.4924(5) 0.8149(3) 0.8438(3) 0.0259(7) Uani 1 1 d . . .
H5 H 0.3554 0.7732 0.8431 0.031 Uiso 1 1 calc R . .
C6 C 0.3951(4) 0.6494(3) 0.5458(3) 0.0171(6) Uani 1 1 d . . .
C7 C 0.2755(4) 0.4960(3) 0.5950(3) 0.0177(6) Uani 1 1 d . . .
C8 C 0.0497(5) 0.4931(3) 0.6828(3) 0.0236(6) Uani 1 1 d . . .
C9 C 0.3674(4) 0.3437(3) 0.5545(3) 0.0187(6) Uani 1 1 d . . .
Cu1 Cu 0.5000 1.0000 0.5000 0.02038(16) Uani 1 2 d S . .
N1 N 0.6086(4) 0.9245(3) 0.7062(3) 0.0204(5) Uani 1 1 d . . .
N2 N -0.1312(4) 0.4886(3) 0.7522(3) 0.0393(7) Uani 1 1 d . . .
O1 O 0.3167(3) 0.7866(2) 0.5787(2) 0.0212(4) Uani 1 1 d . . .
O2 O 0.2689(3) 0.2048(2) 0.5961(2) 0.0228(4) Uani 1 1 d . . .

loop_
_atom_site_aniso_label
_atom_site_aniso_U_11
_atom_site_aniso_U_22
_atom_site_aniso_U_33
_atom_site_aniso_U_23
_atom_site_aniso_U_13
_atom_site_aniso_U_12
C1 0.0238(17) 0.0240(15) 0.0248(15) -0.0056(12) -0.0024(13) -0.0049(12)
C2 0.0266(18) 0.0360(17) 0.0317(17) -0.0078(14) -0.0105(14) -0.0050(13)
C3 0.041(2) 0.0383(18) 0.0245(16) -0.0044(14) -0.0111(15) -0.0051(15)
C4 0.0350(19) 0.0318(16) 0.0252(17) -0.0013(13) -0.0025(14) -0.0075(14)
C5 0.0233(16) 0.0238(15) 0.0277(16) -0.0063(12) -0.0009(13) -0.0050(12)
C6 0.0215(15) 0.0154(13) 0.0150(13) -0.0040(11) -0.0053(11) -0.0020(11)
C7 0.0177(15) 0.0149(13) 0.0193(14) -0.0057(11) -0.0008(11) -0.0020(11)
C8 0.0250(18) 0.0159(13) 0.0291(16) -0.0067(12) -0.0039(14) -0.0037(12)
C9 0.0229(16) 0.0153(13) 0.0164(14) -0.0014(11) -0.0046(12) -0.0046(11)
Cu1 0.0242(3) 0.0126(2) 0.0248(3) -0.00583(19) -0.0049(2) -0.00389(19)
N1 0.0212(13) 0.0159(11) 0.0232(12) -0.0074(9) -0.0017(10) -0.0001(9)
N2 0.0278(17) 0.0345(15) 0.0492(18) -0.0124(13) 0.0038(14) -0.0040(12)
O1 0.0235(11) 0.0127(9) 0.0265(10) -0.0072(8) -0.0026(8) -0.0009(8)
O2 0.0241(11) 0.0129(9) 0.0295(11) -0.0057(8) -0.0013(9) -0.0075(8)

_geom_special_details            
;
 All esds (except the esd in the dihedral angle between two l.s. planes)
 are estimated using the full covariance matrix.  The cell esds are taken
 into account individually in the estimation of esds in distances, angles
 and torsion angles; correlations between esds in cell parameters are only
 used when they are defined by crystal symmetry.  An approximate (isotropic)
 treatment of cell esds is used for estimating esds involving l.s. planes.
;

loop_
_geom_bond_atom_site_label_1
_geom_bond_atom_site_label_2
_geom_bond_distance
_geom_bond_site_symmetry_2
_geom_bond_publ_flag
C1 N1 1.341(3) . ?
C1 C2 1.373(4) . ?
C1 H1 0.9500 . ?
C2 C3 1.379(4) . ?
C2 H2 0.9500 . ?
C3 C4 1.378(4) . ?
C3 H3 0.9500 . ?
C4 C5 1.368(4) . ?
C4 H4 0.9500 . ?
C5 N1 1.350(3) . ?
C5 H5 0.9500 . ?
C6 O1 1.260(3) . ?
C6 C7 1.395(3) . ?
C6 C9 1.529(4) 2_666 ?
C7 C9 1.422(3) . ?
C7 C8 1.435(4) . ?
C8 N2 1.146(3) . ?
C9 O2 1.233(3) . ?
C9 C6 1.529(4) 2_666 ?
Cu1 O1 1.9912(16) 2_676 ?
Cu1 O1 1.9912(16) . ?
Cu1 N1 2.026(2) 2_676 ?
Cu1 N1 2.026(2) . ?
Cu1 O2 2.3262(18) 1_565 ?
Cu1 O2 2.3262(18) 2_666 ?
O2 Cu1 2.3262(18) 1_545 ?

loop_
_geom_angle_atom_site_label_1
_geom_angle_atom_site_label_2
_geom_angle_atom_site_label_3
_geom_angle
_geom_angle_site_symmetry_1
_geom_angle_site_symmetry_3
_geom_angle_publ_flag
N1 C1 C2 123.5(3) . . ?
N1 C1 H1 118.3 . . ?
C2 C1 H1 118.3 . . ?
C3 C2 C1 118.9(3) . . ?
C3 C2 H2 120.5 . . ?
C1 C2 H2 120.5 . . ?
C2 C3 C4 118.5(3) . . ?
C2 C3 H3 120.8 . . ?
C4 C3 H3 120.8 . . ?
C5 C4 C3 119.3(3) . . ?
C5 C4 H4 120.3 . . ?
C3 C4 H4 120.3 . . ?
N1 C5 C4 123.1(3) . . ?
N1 C5 H5 118.4 . . ?
C4 C5 H5 118.4 . . ?
O1 C6 C7 123.2(2) . . ?
O1 C6 C9 117.1(2) . 2_666 ?
C7 C6 C9 119.7(2) . 2_666 ?
C6 C7 C9 122.0(2) . . ?
C6 C7 C8 119.4(2) . . ?
C9 C7 C8 118.6(2) . . ?
N2 C8 C7 179.0(3) . . ?
O2 C9 C7 124.4(2) . . ?
O2 C9 C6 117.4(2) . 2_666 ?
C7 C9 C6 118.3(2) . 2_666 ?
O1 Cu1 O1 180.000(1) 2_676 . ?
O1 Cu1 N1 89.87(8) 2_676 2_676 ?
O1 Cu1 N1 90.13(8) . 2_676 ?
O1 Cu1 N1 90.13(8) 2_676 . ?
O1 Cu1 N1 89.87(8) . . ?
N1 Cu1 N1 180.000(1) 2_676 . ?
O1 Cu1 O2 75.96(7) 2_676 1_565 ?
O1 Cu1 O2 104.04(7) . 1_565 ?
N1 Cu1 O2 90.41(7) 2_676 1_565 ?
N1 Cu1 O2 89.59(7) . 1_565 ?
O1 Cu1 O2 104.04(7) 2_676 2_666 ?
O1 Cu1 O2 75.96(6) . 2_666 ?
N1 Cu1 O2 89.59(7) 2_676 2_666 ?
N1 Cu1 O2 90.41(7) . 2_666 ?
O2 Cu1 O2 180.000(1) 1_565 2_666 ?
C1 N1 C5 116.7(2) . . ?
C1 N1 Cu1 121.35(18) . . ?
C5 N1 Cu1 121.95(19) . . ?
C6 O1 Cu1 120.05(16) . . ?
C9 O2 Cu1 109.57(17) . 1_545 ?

_diffrn_measured_fraction_theta_max 0.992
_diffrn_reflns_theta_full        25.03
_diffrn_measured_fraction_theta_full 0.992
_refine_diff_density_max         0.267
_refine_diff_density_min         -0.296
_refine_diff_density_rms         0.071
