# Electronic Supplementary Material (ESI) for Materials Advances.
# This journal is © The Royal Society of Chemistry 2023

####################################################################### 
# 
# This file contains crystal structure data downloaded from the 
# Cambridge Structural Database (CSD) hosted by the Cambridge 
# Crystallographic Data Centre (CCDC).
# 
# Full information about CCDC data access policies and citation 
# guidelines are available at http://www.ccdc.cam.ac.uk/access/V1 
# 
# Audit and citation data items may have been added by the CCDC. 
# Please retain this information to preserve the provenance of 
# this file and to allow appropriate attribution of the data. 
# 
#######################################################################

data_Co-F
_database_code_depnum_ccdc_archive 'CCDC 2263917'
loop_
_audit_author_name
_audit_author_address
'Dr. Prithiviraj Khakhlary'
;Dibrugarh University
India
;
_audit_update_record             
;
2023-05-18 deposited with the CCDC.	2023-11-07 downloaded from the CCDC.
;

_audit_creation_method           SHELXL-97
_chemical_name_systematic        
; 
 ? 
;
_chemical_name_common            ?
_chemical_melting_point          ?
_chemical_formula_moiety         ?
_chemical_formula_sum            'C15 H9 Co3 N9 O18'
_chemical_formula_weight         774.10

loop_
_atom_type_symbol
_atom_type_description
_atom_type_scat_dispersion_real
_atom_type_scat_dispersion_imag
_atom_type_scat_source
C C 0.0033 0.0016 'International Tables Vol C Tables 4.2.6.8 and 6.1.1.4'
Co Co 0.3494 0.9721 'International Tables Vol C Tables 4.2.6.8 and 6.1.1.4'
O O 0.0106 0.0060 'International Tables Vol C Tables 4.2.6.8 and 6.1.1.4'
H H 0.0000 0.0000 'International Tables Vol C Tables 4.2.6.8 and 6.1.1.4'
N N 0.0061 0.0033 'International Tables Vol C Tables 4.2.6.8 and 6.1.1.4'

_symmetry_cell_setting           Trigonal
_symmetry_space_group_name_H-M   R-3c

loop_
_symmetry_equiv_pos_as_xyz
'x, y, z'
'-y, x-y, z'
'-x+y, -x, z'
'y, x, -z+1/2'
'-x, -x+y, -z+1/2'
'x-y, -y, -z+1/2'
'x+2/3, y+1/3, z+1/3'
'-y+2/3, x-y+1/3, z+1/3'
'-x+y+2/3, -x+1/3, z+1/3'
'y+2/3, x+1/3, -z+5/6'
'-x+2/3, -x+y+1/3, -z+5/6'
'x-y+2/3, -y+1/3, -z+5/6'
'x+1/3, y+2/3, z+2/3'
'-y+1/3, x-y+2/3, z+2/3'
'-x+y+1/3, -x+2/3, z+2/3'
'y+1/3, x+2/3, -z+7/6'
'-x+1/3, -x+y+2/3, -z+7/6'
'x-y+1/3, -y+2/3, -z+7/6'
'-x, -y, -z'
'y, -x+y, -z'
'x-y, x, -z'
'-y, -x, z-1/2'
'x, x-y, z-1/2'
'-x+y, y, z-1/2'
'-x+2/3, -y+1/3, -z+1/3'
'y+2/3, -x+y+1/3, -z+1/3'
'x-y+2/3, x+1/3, -z+1/3'
'-y+2/3, -x+1/3, z-1/6'
'x+2/3, x-y+1/3, z-1/6'
'-x+y+2/3, y+1/3, z-1/6'
'-x+1/3, -y+2/3, -z+2/3'
'y+1/3, -x+y+2/3, -z+2/3'
'x-y+1/3, x+2/3, -z+2/3'
'-y+1/3, -x+2/3, z+1/6'
'x+1/3, x-y+2/3, z+1/6'
'-x+y+1/3, y+2/3, z+1/6'

_cell_length_a                   8.1984(6)
_cell_length_b                   8.1984(6)
_cell_length_c                   22.2560(17)
_cell_angle_alpha                90.00
_cell_angle_beta                 90.00
_cell_angle_gamma                120.00
_cell_volume                     1295.50(17)
_cell_formula_units_Z            2
_cell_measurement_temperature    293(2)
_cell_measurement_reflns_used    4391
_cell_measurement_theta_min      3.40
_cell_measurement_theta_max      28.35

_exptl_crystal_description       Block
_exptl_crystal_colour            purple
_exptl_crystal_size_max          1
_exptl_crystal_size_mid          .12
_exptl_crystal_size_min          .08
_exptl_crystal_density_meas      ?
_exptl_crystal_density_diffrn    1.984
_exptl_crystal_density_method    'not measured'
_exptl_crystal_F_000             672
_exptl_absorpt_coefficient_mu    2.002
_exptl_absorpt_correction_type   ?
_exptl_absorpt_correction_T_min  ?
_exptl_absorpt_correction_T_max  ?
_exptl_absorpt_process_details   ?

_exptl_special_details           
; 
 ? 
;

_diffrn_ambient_temperature      293(2)
_diffrn_radiation_wavelength     0.71073
_diffrn_radiation_type           MoK\a
_diffrn_radiation_source         'fine-focus sealed tube'
_diffrn_radiation_monochromator  graphite
_diffrn_measurement_device_type  'CCD area detector'
_diffrn_measurement_method       'phi and omega scans'
_diffrn_detector_area_resol_mean ?
_diffrn_standards_number         ?
_diffrn_standards_interval_count ?
_diffrn_standards_interval_time  ?
_diffrn_standards_decay_%        ?
_diffrn_reflns_number            5090
_diffrn_reflns_av_R_equivalents  0.0211
_diffrn_reflns_av_sigmaI/netI    0.0067
_diffrn_reflns_limit_h_min       -9
_diffrn_reflns_limit_h_max       9
_diffrn_reflns_limit_k_min       -9
_diffrn_reflns_limit_k_max       9
_diffrn_reflns_limit_l_min       -26
_diffrn_reflns_limit_l_max       26
_diffrn_reflns_theta_min         3.40
_diffrn_reflns_theta_max         25.21
_reflns_number_total             268
_reflns_number_gt                267
_reflns_threshold_expression     >2sigma(I)

_computing_data_collection       'Bruker SMART'
_computing_cell_refinement       'Bruker SMART'
_computing_data_reduction        'Bruker SAINT'
_computing_structure_solution    'SHELXS-97 (Sheldrick, 1990)'
_computing_structure_refinement  'SHELXL-97 (Sheldrick, 1997)'
_computing_molecular_graphics    'Bruker SHELXTL'
_computing_publication_material  'Bruker SHELXTL'

_refine_special_details          
; 
 Refinement of F² against ALL reflections.  The weighted R-factor wR and 
 goodness of fit S are based on F², conventional R-factors R are based 
 on F, with F set to zero for negative F². The threshold expression of 
 F² > 2sigma(F²) is used only for calculating R-factors(gt) etc. and is 
 not relevant to the choice of reflections for refinement.  R-factors based 
 on F² are statistically about twice as large as those based on F, and R- 
 factors based on ALL data will be even larger. 
;

_refine_ls_structure_factor_coef Fsqd
_refine_ls_matrix_type           full
_refine_ls_weighting_scheme      calc
_refine_ls_weighting_details     
'calc w=1/[σ²(Fo²)+(0.0861P)²+14.1911P] where P=(Fo²+2Fc²)/3'
_atom_sites_solution_primary     direct
_atom_sites_solution_secondary   difmap
_atom_sites_solution_hydrogens   geom
_refine_ls_hydrogen_treatment    mixed
_refine_ls_extinction_method     none
_refine_ls_extinction_coef       ?
_refine_ls_number_reflns         268
_refine_ls_number_parameters     25
_refine_ls_number_restraints     0
_refine_ls_R_factor_all          0.0553
_refine_ls_R_factor_gt           0.0552
_refine_ls_wR_factor_ref         0.1411
_refine_ls_wR_factor_gt          0.1409
_refine_ls_goodness_of_fit_ref   1.168
_refine_ls_restrained_S_all      1.168
_refine_ls_shift/su_max          0.000
_refine_ls_shift/su_mean         0.000

loop_
_atom_site_label
_atom_site_type_symbol
_atom_site_fract_x
_atom_site_fract_y
_atom_site_fract_z
_atom_site_U_iso_or_equiv
_atom_site_adp_type
_atom_site_occupancy
_atom_site_symmetry_multiplicity
_atom_site_calc_flag
_atom_site_refinement_flags
_atom_site_disorder_assembly
_atom_site_disorder_group
Co1 Co 0.0000 0.0000 0.0000 0.0164(6) Uani 1 6 d S . .
O1 O -0.0082(4) 0.2083(4) 0.05358(13) 0.0286(9) Uani 1 1 d . . .
C1 C 0.1243(8) 0.3333 0.0833 0.0231(13) Uani 1 2 d S . .
H1 H 0.2377 0.3333 0.0833 0.028 Uiso 1 2 calc SR . .
C2 C 0.6667 0.3333 0.0276(5) 0.050(3) Uani 1 3 d S . .
N1 N 0.6667 0.236(2) 0.0833 0.35(2) Uani 1 2 d S . .

loop_
_atom_site_aniso_label
_atom_site_aniso_U_11
_atom_site_aniso_U_22
_atom_site_aniso_U_33
_atom_site_aniso_U_23
_atom_site_aniso_U_13
_atom_site_aniso_U_12
Co1 0.0163(7) 0.0163(7) 0.0166(8) 0.000 0.000 0.0081(3)
O1 0.0251(17) 0.0271(17) 0.0327(17) -0.0105(13) -0.0051(13) 0.0125(14)
C1 0.022(2) 0.025(3) 0.023(3) 0.001(2) 0.0007(12) 0.0123(16)
C2 0.055(5) 0.055(5) 0.041(6) 0.000 0.000 0.028(2)
N1 0.169(18) 0.086(7) 0.83(6) 0.087(19) 0.17(4) 0.084(9)

_geom_special_details            
; 
 All esds (except the esd in the dihedral angle between two l.s. planes) 
 are estimated using the full covariance matrix.  The cell esds are taken 
 into account individually in the estimation of esds in distances, angles 
 and torsion angles; correlations between esds in cell parameters are only 
 used when they are defined by crystal symmetry.  An approximate (isotropic) 
 treatment of cell esds is used for estimating esds involving l.s. planes. 
;

loop_
_geom_bond_atom_site_label_1
_geom_bond_atom_site_label_2
_geom_bond_distance
_geom_bond_site_symmetry_2
_geom_bond_publ_flag
Co1 O1 2.111(3) 3 ?
Co1 O1 2.111(3) 19 ?
Co1 O1 2.111(3) 20 ?
Co1 O1 2.111(3) 2 ?
Co1 O1 2.111(3) 21 ?
Co1 O1 2.111(3) . ?
O1 C1 1.247(4) . ?
C1 O1 1.247(4) 18_554 ?
C1 H1 0.9300 . ?
C2 N1 1.475(13) . ?
C2 N1 1.475(13) 2_655 ?
C2 N1 1.475(13) 3_665 ?
N1 N1 1.38(3) 2_655 ?
N1 N1 1.38(3) 3_665 ?
N1 C2 1.475(13) 16_544 ?

loop_
_geom_angle_atom_site_label_1
_geom_angle_atom_site_label_2
_geom_angle_atom_site_label_3
_geom_angle
_geom_angle_site_symmetry_1
_geom_angle_site_symmetry_3
_geom_angle_publ_flag
O1 Co1 O1 88.77(12) 3 19 ?
O1 Co1 O1 88.77(12) 3 20 ?
O1 Co1 O1 91.23(12) 19 20 ?
O1 Co1 O1 91.23(12) 3 2 ?
O1 Co1 O1 88.77(12) 19 2 ?
O1 Co1 O1 180.00(13) 20 2 ?
O1 Co1 O1 180.0 3 21 ?
O1 Co1 O1 91.23(12) 19 21 ?
O1 Co1 O1 91.23(12) 20 21 ?
O1 Co1 O1 88.77(12) 2 21 ?
O1 Co1 O1 91.23(12) 3 . ?
O1 Co1 O1 180.00(17) 19 . ?
O1 Co1 O1 88.77(12) 20 . ?
O1 Co1 O1 91.23(12) 2 . ?
O1 Co1 O1 88.77(12) 21 . ?
C1 O1 Co1 126.7(3) . . ?
O1 C1 O1 125.3(6) 18_554 . ?
O1 C1 H1 117.4 18_554 . ?
O1 C1 H1 117.4 . . ?
N1 C2 N1 56.0(10) . 2_655 ?
N1 C2 N1 56.0(10) . 3_665 ?
N1 C2 N1 56.0(10) 2_655 3_665 ?
N1 N1 N1 60.0 2_655 3_665 ?
N1 N1 C2 62.0(5) 2_655 16_544 ?
N1 N1 C2 62.0(5) 3_665 16_544 ?
N1 N1 C2 62.0(5) 2_655 . ?
N1 N1 C2 62.0(5) 3_665 . ?
C2 N1 C2 114.4(12) 16_544 . ?

loop_
_geom_torsion_atom_site_label_1
_geom_torsion_atom_site_label_2
_geom_torsion_atom_site_label_3
_geom_torsion_atom_site_label_4
_geom_torsion
_geom_torsion_site_symmetry_1
_geom_torsion_site_symmetry_2
_geom_torsion_site_symmetry_3
_geom_torsion_site_symmetry_4
_geom_torsion_publ_flag
O1 Co1 O1 C1 27.4(3) 3 . . . ?
O1 Co1 O1 C1 95.4(19) 19 . . . ?
O1 Co1 O1 C1 -61.35(17) 20 . . . ?
O1 Co1 O1 C1 118.65(17) 2 . . . ?
O1 Co1 O1 C1 -152.6(3) 21 . . . ?
Co1 O1 C1 O1 177.6(3) . . . 18_554 ?
N1 C2 N1 N1 -69.0(4) 3_665 . . 2_655 ?
N1 C2 N1 N1 69.0(4) 2_655 . . 3_665 ?
N1 C2 N1 C2 34.48(18) 2_655 . . 16_544 ?
N1 C2 N1 C2 -34.49(18) 3_665 . . 16_544 ?

_diffrn_measured_fraction_theta_max 1.000
_diffrn_reflns_theta_full        25.21
_diffrn_measured_fraction_theta_full 1.000
_refine_diff_density_max         1.340
_refine_diff_density_min         -1.293
_refine_diff_density_rms         0.153
