# Electronic Supplementary Material (ESI) for RSC Advances.
# This journal is © The Royal Society of Chemistry 2014

#######################################################################
#
#                 Cambridge Crystallographic Data Centre
#                                CCDC 
# 
#######################################################################
# 
#  This CIF contains data from an original supplementary publication
#  deposited with the CCDC, and may include chemical, crystal,
#  experimental, refinement, atomic coordinates,
#  anisotropic displacement parameters and molecular geometry data,
#  as required by the journal to which it was submitted.
#
#  This CIF is provided on the understanding that it is used for bona
#  fide research purposes only. It may contain copyright material
#  of the CCDC or of third parties, and may not be copied or further
#  disseminated in any form, whether machine-readable or not,
#  except for the purpose of generating routine backup copies
#  on your local computer system.
# 
#  For further information on the CCDC, data deposition and
#  data retrieval see:
#                         www.ccdc.cam.ac.uk
#
#  Bona fide researchers may freely download Mercury and enCIFer
#  from this site to visualise CIF-encoded structures and 
#  to carry out CIF format checking respectively.
#
data_Ternaere

#=============================================================================

# 5. CHEMICAL DATA

_chemical_name_systematic        'tin cobalt sulfide'
_chemical_name_common            'tin cobalt shandite'
_chemical_formula_moiety         'Sn2 Co3 S2'
_chemical_formula_structural     ?
_chemical_formula_analytical     ?
_chemical_formula_iupac          ?
_chemical_formula_sum            ?
_chemical_formula_weight         ?
_chemical_melting_point          1183
_chemical_compound_source        ? # for minerals and 
# natural products

loop_
_atom_type_symbol
_atom_type_scat_length_neutron
_atom_type_scat_source
CO 0.24900 V.F._Sears_Neutron_News_3_26_(1992)
SN 0.62250 V.F._Sears_Neutron_News_3_26_(1992)
S 0.28470 V.F._Sears_Neutron_News_3_26_(1992)

#=============================================================================

# 6. POWDER SPECIMEN AND CRYSTAL DATA

_symmetry_cell_setting           Trigonal
_symmetry_space_group_name_H-M   'R -3 m'
_symmetry_space_group_name_Hall  '-R 3 2"'

loop_
_symmetry_equiv_pos_as_xyz #<--must include 'x,y,z'
x,y,z
-y,x-y,z
-x+y,-x,z
-y,-x,z
-x+y,y,z
x,x-y,z
-x,-y,-z
y,-x+y,-z
x-y,x,-z
y,x,-z
x-y,-y,-z
-x,-x+y,-z
x+2/3,y+1/3,z+1/3
-y+2/3,x-y+1/3,z+1/3
-x+y+2/3,-x+1/3,z+1/3
-y+2/3,-x+1/3,z+1/3
-x+y+2/3,y+1/3,z+1/3
x+2/3,x-y+1/3,z+1/3
-x+2/3,-y+1/3,-z+1/3
y+2/3,-x+y+1/3,-z+1/3
x-y+2/3,x+1/3,-z+1/3
y+2/3,x+1/3,-z+1/3
x-y+2/3,-y+1/3,-z+1/3
-x+2/3,-x+y+1/3,-z+1/3
x+1/3,y+2/3,z+2/3
-y+1/3,x-y+2/3,z+2/3
-x+y+1/3,-x+2/3,z+2/3
-y+1/3,-x+2/3,z+2/3
-x+y+1/3,y+2/3,z+2/3
x+1/3,x-y+2/3,z+2/3
-x+1/3,-y+2/3,-z+2/3
y+1/3,-x+y+2/3,-z+2/3
x-y+1/3,x+2/3,-z+2/3
y+1/3,x+2/3,-z+2/3
x-y+1/3,-y+2/3,-z+2/3
-x+1/3,-x+y+2/3,-z+2/3

_cell_length_a                   5.3638(4)
_cell_length_b                   5.3638(4)
_cell_length_c                   13.1664(10)
_cell_angle_alpha                90.00000
_cell_angle_beta                 90.00000
_cell_angle_gamma                120.00000
_cell_volume                     328.05(4)
_cell_formula_units_Z            ?
_cell_measurement_temperature    ?
_cell_special_details            
; ?
;
# The next three fields give the specimen dimensions in mm.  The equatorial
# plane contains the incident and diffracted beam.

_pd_spec_size_axial              ? # perpendicular to 
# equatorial plane
_pd_spec_size_equat              ? # parallel to 
# scattering vector
# in transmission
_pd_spec_size_thick              ? # parallel to 
# scattering vector
# in reflection

# The next five fields are character fields that describe the specimen.

_pd_spec_mounting                
# This field should be
# used to give details of the 
# container.
; ?
;
_pd_spec_mount_mode              ? # options are 'reflection'
# or 'transmission'
_pd_spec_shape                   ? # options are 'cylinder' 
# 'flat_sheet' or 'irregular'
_pd_char_particle_morphology     ?
_pd_char_colour                  ? # use ICDD colour descriptions

# The following three fields describe the preparation of the specimen.
# The cooling rate is in K/min.  The pressure at which the sample was 
# prepared is in kPa.  The temperature of preparation is in K.        

_pd_prep_cool_rate               ?
_pd_prep_pressure                ?
_pd_prep_temperature             ?

# The next four fields are normally only needed for transmission experiments.

_exptl_absorpt_coefficient_mu    ?
_exptl_absorpt_correction_type   ?
_exptl_absorpt_process_details   ?
_exptl_absorpt_correction_T_min  ?
_exptl_absorpt_correction_T_max  ?

#=============================================================================

# 7. EXPERIMENTAL DATA

_exptl_special_details           
; ?
;

# The following item is used to identify the equipment used to record 
# the powder pattern when the diffractogram was measured at a laboratory 
# other than the authors' home institution, e.g. when neutron or synchrotron
# radiation is used.

_pd_instr_location               
; ?
;
_pd_calibration_special_details  
# description of the method used
# to calibrate the instrument
; ?
;

_diffrn_ambient_temperature      298
_diffrn_source                   'nuclear reactor'
_diffrn_radiation_type           'Constant Wavelength Neutron Diffraction'
_diffrn_radiation_wavelength     1.62209
_diffrn_source_type              ? # Put here the diffractometer and site

_diffrn_radiation_monochromator  ?
_diffrn_measurement_device_type  ?
_diffrn_measurement_method       ?
_diffrn_detector_area_resol_mean ? # Not in version 2.0.1
_diffrn_detector                 ?
_diffrn_detector_type            ? # make or model of detector
_pd_meas_scan_method             ? # options are 'step', 'cont',
# 'tof', 'fixed' or
# 'disp' (= dispersive)
_pd_meas_special_details         
;  ?
;

#  The following four items give details of the measured (not processed)
#  powder pattern.  Angles are in degrees.

_pd_meas_number_of_points        1284
_pd_meas_2theta_range_min        3.50000
_pd_meas_2theta_range_max        163.87500
_pd_meas_2theta_range_inc        0.125097

#=============================================================================

# 8. REFINEMENT DATA

_refine_special_details          
; ?
;

# Use the next field to give any special details about the fitting of the
# powder pattern.

_pd_proc_ls_special_details      
; ?
;

# The next three items are given as text.

_pd_proc_ls_profile_function     ?
_pd_proc_ls_background_function  ?
_pd_proc_ls_pref_orient_corr     
; ?
;

#  The following profile R-factors are NOT CORRECTED for background
#  The sum is extended to all non-excluded points.
#  These are the current CIF standard

_pd_proc_ls_prof_R_factor        3.4027
_pd_proc_ls_prof_wR_factor       4.6195
_pd_proc_ls_prof_wR_expected     2.2345

#  The following profile R-factors are CORRECTED for background
#  The sum is extended to all non-excluded points.
#  These items are not in the current CIF standard, but are defined above

_pd_proc_ls_prof_cR_factor       14.8396
_pd_proc_ls_prof_cwR_factor      12.7877
_pd_proc_ls_prof_cwR_expected    6.1856

#  The following items are not in the CIF standard, but are defined above

_pd_proc_ls_prof_chi2            4.2739
_pd_proc_ls_prof_echi2           4.3125

#  Items related to LS refinement

_refine_ls_R_I_factor            5.1677
_refine_ls_number_reflns         99
_refine_ls_number_parameters     28
_refine_ls_number_restraints     0

# The following four items apply to angular dispersive measurements.
# 2theta minimum, maximum and increment (in degrees) are for the 
# intensities used in the refinement.

_pd_proc_2theta_range_min        3.5950
_pd_proc_2theta_range_max        163.9700
_pd_proc_2theta_range_inc        0.125097
_pd_proc_wavelength              1.622090

_pd_block_diffractogram_id       ? # The id used for the block containing
# the powder pattern profile (section 11)

# Give appropriate details in the next two text fields.

_pd_proc_info_excluded_regions   ?
_pd_proc_info_data_reduction     ?

# The following items are used to identify the programs used.

_computing_data_collection       ?
_computing_structure_solution    ?
_computing_structure_refinement  FULLPROF
_computing_molecular_graphics    ?
_computing_publication_material  ?

#=============================================================================

# 9. ATOMIC COORDINATES AND DISPLACEMENT PARAMETERS

loop_
_atom_site_label
_atom_site_fract_x
_atom_site_fract_y
_atom_site_fract_z
_atom_site_U_iso_or_equiv
_atom_site_occupancy
_atom_site_adp_type # Not in version 2.0.1
_atom_site_type_symbol
Co1 0.50000 0.00000 0.50000 0.0062(5) 1.00000 Uiso CO
Sn1 0.00000 0.00000 0.50000 0.0033(8) 0.99996 Uiso SN
Sn2 0.00000 0.00000 0.00000 0.0089(8) 0.99996 Uiso SN
S1 0.00000 0.00000 0.2818(2) 0.0047(9) 1.00002 Uiso S

# Note: if the displacement parameters were refined anisotropically
# the U matrices should be given as for single-crystal studies.

#=============================================================================

# 10. DISTANCES AND ANGLES / MOLECULAR GEOMETRY 

_geom_special_details            ?

loop_
_geom_bond_atom_site_label_1
_geom_bond_atom_site_label_2
_geom_bond_site_symmetry_1
_geom_bond_site_symmetry_2
_geom_bond_distance
_geom_bond_publ_flag
? ? ? ? ? ?

loop_
_geom_contact_atom_site_label_1
_geom_contact_atom_site_label_2
_geom_contact_distance
_geom_contact_site_symmetry_1
_geom_contact_site_symmetry_2
_geom_contact_publ_flag
? ? ? ? ? ?

loop_
_geom_angle_atom_site_label_1
_geom_angle_atom_site_label_2
_geom_angle_atom_site_label_3
_geom_angle_site_symmetry_1
_geom_angle_site_symmetry_2
_geom_angle_site_symmetry_3
_geom_angle
_geom_angle_publ_flag
? ? ? ? ? ? ? ?

loop_
_geom_torsion_atom_site_label_1
_geom_torsion_atom_site_label_2
_geom_torsion_atom_site_label_3
_geom_torsion_atom_site_label_4
_geom_torsion_site_symmetry_1
_geom_torsion_site_symmetry_2
_geom_torsion_site_symmetry_3
_geom_torsion_site_symmetry_4
_geom_torsion
_geom_torsion_publ_flag
? ? ? ? ? ? ? ? ? ?

loop_
_geom_hbond_atom_site_label_D
_geom_hbond_atom_site_label_H
_geom_hbond_atom_site_label_A
_geom_hbond_site_symmetry_D
_geom_hbond_site_symmetry_H
_geom_hbond_site_symmetry_A
_geom_hbond_distance_DH
_geom_hbond_distance_HA
_geom_hbond_distance_DA
_geom_hbond_angle_DHA
_geom_hbond_publ_flag
? ? ? ? ? ? ? ? ? ? ?

#=============================================================================

#=============================================================================
# Additional structures (last six sections and associated data_? identifiers) 
# may be added at this point.                                                 
#=============================================================================

# The following lines are used to test the character set of files sent by     
# network email or other means. They are not part of the CIF data set.        
# abcdefghijklmnopqrstuvwxyzABCDEFGHIJKLMNOPQRSTUVWXYZ0123456789              
# !@#$%^&*()_+{}:"~<>?|\-=[];'`,./ 
_exptl_crystal_colour            gray
_exptl_crystal_recrystallization_method 'From the Melt'
_database_code_depnum_ccdc_archive 'CCDC 933688'
#######################################################################
#
#                 Cambridge Crystallographic Data Centre
#                                CCDC 
# 
#######################################################################
# 
#  This CIF contains data from an original supplementary publication
#  deposited with the CCDC, and may include chemical, crystal,
#  experimental, refinement, atomic coordinates,
#  anisotropic displacement parameters and molecular geometry data,
#  as required by the journal to which it was submitted.
#
#  This CIF is provided on the understanding that it is used for bona
#  fide research purposes only. It may contain copyright material
#  of the CCDC or of third parties, and may not be copied or further
#  disseminated in any form, whether machine-readable or not,
#  except for the purpose of generating routine backup copies
#  on your local computer system.
# 
#  For further information on the CCDC, data deposition and
#  data retrieval see:
#                         www.ccdc.cam.ac.uk
#
#  Bona fide researchers may freely download Mercury and enCIFer
#  from this site to visualise CIF-encoded structures and 
#  to carry out CIF format checking respectively.
#
data_Synthesis

#=============================================================================

# 5. CHEMICAL DATA

_chemical_name_systematic        In2Co3S2
_chemical_name_common            'Cobalt indium shandite'
_chemical_formula_moiety         ?
_chemical_formula_structural     ?
_chemical_formula_analytical     ?
_chemical_formula_iupac          ?
_chemical_formula_sum            'In2 Co3 S2'
_chemical_formula_weight         ?
_chemical_melting_point          1139
_chemical_compound_source        ? # for minerals and 
# natural products

loop_
_atom_type_symbol
_atom_type_scat_length_neutron
_atom_type_scat_source
Co 0.24900 V.F._Sears_Neutron_News_3_26_(1992)
In 0.40650 V.F._Sears_Neutron_News_3_26_(1992)
S 0.28470 V.F._Sears_Neutron_News_3_26_(1992)

#=============================================================================

# 6. POWDER SPECIMEN AND CRYSTAL DATA

_symmetry_cell_setting           Trigonal
_symmetry_space_group_name_H-M   'R -3 m'
_symmetry_space_group_name_Hall  '-R 3 2"'

loop_
_symmetry_equiv_pos_as_xyz #<--must include 'x,y,z'
x,y,z
-y,x-y,z
y,x,-z
-x+y,-x,z
-x,-x+y,-z
x-y,-y,-z
-x,-y,-z
y,-x+y,-z
-y,-x,z
x-y,x,-z
x,x-y,z
-x+y,y,z
x+2/3,y+1/3,z+1/3
-y+2/3,x-y+1/3,z+1/3
y+2/3,x+1/3,-z+1/3
-x+y+2/3,-x+1/3,z+1/3
-x+2/3,-x+y+1/3,-z+1/3
x-y+2/3,-y+1/3,-z+1/3
-x+2/3,-y+1/3,-z+1/3
y+2/3,-x+y+1/3,-z+1/3
-y+2/3,-x+1/3,z+1/3
x-y+2/3,x+1/3,-z+1/3
x+2/3,x-y+1/3,z+1/3
-x+y+2/3,y+1/3,z+1/3
x+1/3,y+2/3,z+2/3
-y+1/3,x-y+2/3,z+2/3
y+1/3,x+2/3,-z+2/3
-x+y+1/3,-x+2/3,z+2/3
-x+1/3,-x+y+2/3,-z+2/3
x-y+1/3,-y+2/3,-z+2/3
-x+1/3,-y+2/3,-z+2/3
y+1/3,-x+y+2/3,-z+2/3
-y+1/3,-x+2/3,z+2/3
x-y+1/3,x+2/3,-z+2/3
x+1/3,x-y+2/3,z+2/3
-x+y+1/3,y+2/3,z+2/3

_cell_length_a                   5.3128(7)
_cell_length_b                   5.3128(7)
_cell_length_c                   13.652(2)
_cell_angle_alpha                90.00000
_cell_angle_beta                 90.00000
_cell_angle_gamma                120.00000
_cell_volume                     333.71(9)
_cell_formula_units_Z            ?
_cell_measurement_temperature    ?
_cell_special_details            
; ?
;
# The next three fields give the specimen dimensions in mm.  The equatorial
# plane contains the incident and diffracted beam.

_pd_spec_size_axial              ? # perpendicular to 
# equatorial plane
_pd_spec_size_equat              ? # parallel to 
# scattering vector
# in transmission
_pd_spec_size_thick              ? # parallel to 
# scattering vector
# in reflection

# The next five fields are character fields that describe the specimen.

_pd_spec_mounting                
# This field should be
# used to give details of the 
# container.
; ?
;
_pd_spec_mount_mode              ? # options are 'reflection'
# or 'transmission'
_pd_spec_shape                   ? # options are 'cylinder' 
# 'flat_sheet' or 'irregular'
_pd_char_particle_morphology     ?
_pd_char_colour                  ? # use ICDD colour descriptions

# The following three fields describe the preparation of the specimen.
# The cooling rate is in K/min.  The pressure at which the sample was 
# prepared is in kPa.  The temperature of preparation is in K.        

_pd_prep_cool_rate               ?
_pd_prep_pressure                ?
_pd_prep_temperature             ?

# The next four fields are normally only needed for transmission experiments.

_exptl_absorpt_coefficient_mu    ?
_exptl_absorpt_correction_type   ?
_exptl_absorpt_process_details   ?
_exptl_absorpt_correction_T_min  ?
_exptl_absorpt_correction_T_max  ?

#=============================================================================

# 7. EXPERIMENTAL DATA

_exptl_special_details           
; ?
;

# The following item is used to identify the equipment used to record 
# the powder pattern when the diffractogram was measured at a laboratory 
# other than the authors' home institution, e.g. when neutron or synchrotron
# radiation is used.

_pd_instr_location               
; ?
;
_pd_calibration_special_details  
# description of the method used
# to calibrate the instrument
; ?
;

_diffrn_ambient_temperature      298
_diffrn_source                   'nuclear reactor'
_diffrn_radiation_type           'Constant Wavelength Neutron Diffraction'
_diffrn_radiation_wavelength     1.62209
_diffrn_source_type              ? # Put here the diffractometer and site

_diffrn_radiation_monochromator  ?
_diffrn_measurement_device_type  ?
_diffrn_measurement_method       ?
_diffrn_detector_area_resol_mean ? # Not in version 2.0.1
_diffrn_detector                 ?
_diffrn_detector_type            ? # make or model of detector
_pd_meas_scan_method             ? # options are 'step', 'cont',
# 'tof', 'fixed' or
# 'disp' (= dispersive)
_pd_meas_special_details         
;  ?
;

#  The following four items give details of the measured (not processed)
#  powder pattern.  Angles are in degrees.

_pd_meas_number_of_points        1284
_pd_meas_2theta_range_min        3.50000
_pd_meas_2theta_range_max        163.87500
_pd_meas_2theta_range_inc        0.125097

#=============================================================================

# 8. REFINEMENT DATA

_refine_special_details          
; ?
;

# Use the next field to give any special details about the fitting of the
# powder pattern.

_pd_proc_ls_special_details      
; ?
;

# The next three items are given as text.

_pd_proc_ls_profile_function     ?
_pd_proc_ls_background_function  ?
_pd_proc_ls_pref_orient_corr     
; ?
;

#  The following profile R-factors are NOT CORRECTED for background
#  The sum is extended to all non-excluded points.
#  These are the current CIF standard

_pd_proc_ls_prof_R_factor        3.7292
_pd_proc_ls_prof_wR_factor       4.8563
_pd_proc_ls_prof_wR_expected     3.0666

#  The following profile R-factors are CORRECTED for background
#  The sum is extended to all non-excluded points.
#  These items are not in the current CIF standard, but are defined above

_pd_proc_ls_prof_cR_factor       31.2693
_pd_proc_ls_prof_cwR_factor      24.0933
_pd_proc_ls_prof_cwR_expected    15.2140

#  The following items are not in the CIF standard, but are defined above

_pd_proc_ls_prof_chi2            2.5079
_pd_proc_ls_prof_echi2           2.5055

#  Items related to LS refinement

_refine_ls_R_I_factor            14.8786
_refine_ls_number_reflns         100
_refine_ls_number_parameters     24
_refine_ls_number_restraints     0

# The following four items apply to angular dispersive measurements.
# 2theta minimum, maximum and increment (in degrees) are for the 
# intensities used in the refinement.

_pd_proc_2theta_range_min        3.5023
_pd_proc_2theta_range_max        163.8773
_pd_proc_2theta_range_inc        0.125097
_pd_proc_wavelength              1.622090

_pd_block_diffractogram_id       ? # The id used for the block containing
# the powder pattern profile (section 11)

# Give appropriate details in the next two text fields.

_pd_proc_info_excluded_regions   ?
_pd_proc_info_data_reduction     ?

# The following items are used to identify the programs used.

_computing_data_collection       ?
_computing_structure_solution    ?
_computing_structure_refinement  FULLPROF
_computing_molecular_graphics    ?
_computing_publication_material  ?

#=============================================================================

# 9. ATOMIC COORDINATES AND DISPLACEMENT PARAMETERS

loop_
_atom_site_label
_atom_site_fract_x
_atom_site_fract_y
_atom_site_fract_z
_atom_site_U_iso_or_equiv
_atom_site_occupancy
_atom_site_adp_type # Not in version 2.0.1
_atom_site_type_symbol
Co1 0.50000 0.00000 0.50000 0.0086(7) 1.00000 Uiso Co
In1 0.00000 0.00000 0.50000 0.0170(12) 0.99996 Uiso In
In2 0.00000 0.00000 0.00000 0.0187(11) 0.99996 Uiso In
S1 0.00000 0.00000 0.2791(3) 0.0099(8) 1.00002 Uiso S

# Note: if the displacement parameters were refined anisotropically
# the U matrices should be given as for single-crystal studies.

#=============================================================================

# 10. DISTANCES AND ANGLES / MOLECULAR GEOMETRY 

_geom_special_details            ?

loop_
_geom_bond_atom_site_label_1
_geom_bond_atom_site_label_2
_geom_bond_site_symmetry_1
_geom_bond_site_symmetry_2
_geom_bond_distance
_geom_bond_publ_flag
? ? ? ? ? ?

loop_
_geom_contact_atom_site_label_1
_geom_contact_atom_site_label_2
_geom_contact_distance
_geom_contact_site_symmetry_1
_geom_contact_site_symmetry_2
_geom_contact_publ_flag
? ? ? ? ? ?

loop_
_geom_angle_atom_site_label_1
_geom_angle_atom_site_label_2
_geom_angle_atom_site_label_3
_geom_angle_site_symmetry_1
_geom_angle_site_symmetry_2
_geom_angle_site_symmetry_3
_geom_angle
_geom_angle_publ_flag
? ? ? ? ? ? ? ?

loop_
_geom_torsion_atom_site_label_1
_geom_torsion_atom_site_label_2
_geom_torsion_atom_site_label_3
_geom_torsion_atom_site_label_4
_geom_torsion_site_symmetry_1
_geom_torsion_site_symmetry_2
_geom_torsion_site_symmetry_3
_geom_torsion_site_symmetry_4
_geom_torsion
_geom_torsion_publ_flag
? ? ? ? ? ? ? ? ? ?

loop_
_geom_hbond_atom_site_label_D
_geom_hbond_atom_site_label_H
_geom_hbond_atom_site_label_A
_geom_hbond_site_symmetry_D
_geom_hbond_site_symmetry_H
_geom_hbond_site_symmetry_A
_geom_hbond_distance_DH
_geom_hbond_distance_HA
_geom_hbond_distance_DA
_geom_hbond_angle_DHA
_geom_hbond_publ_flag
? ? ? ? ? ? ? ? ? ? ?

#=============================================================================

#=============================================================================
# Additional structures (last six sections and associated data_? identifiers) 
# may be added at this point.                                                 
#=============================================================================

# The following lines are used to test the character set of files sent by     
# network email or other means. They are not part of the CIF data set.        
# abcdefghijklmnopqrstuvwxyzABCDEFGHIJKLMNOPQRSTUVWXYZ0123456789              
# !@#$%^&*()_+{}:"~<>?|\-=[];'`,./ 
_exptl_crystal_colour            gray
_exptl_crystal_recrystallization_method 'From the Melt'
_database_code_depnum_ccdc_archive 'CCDC 933689'
#######################################################################
#
#                 Cambridge Crystallographic Data Centre
#                                CCDC 
# 
#######################################################################
# 
#  This CIF contains data from an original supplementary publication
#  deposited with the CCDC, and may include chemical, crystal,
#  experimental, refinement, atomic coordinates,
#  anisotropic displacement parameters and molecular geometry data,
#  as required by the journal to which it was submitted.
#
#  This CIF is provided on the understanding that it is used for bona
#  fide research purposes only. It may contain copyright material
#  of the CCDC or of third parties, and may not be copied or further
#  disseminated in any form, whether machine-readable or not,
#  except for the purpose of generating routine backup copies
#  on your local computer system.
# 
#  For further information on the CCDC, data deposition and
#  data retrieval see:
#                         www.ccdc.cam.ac.uk
#
#  Bona fide researchers may freely download Mercury and enCIFer
#  from this site to visualise CIF-encoded structures and 
#  to carry out CIF format checking respectively.
#
data_Synthesis

#=============================================================================

# 5. CHEMICAL DATA

_chemical_name_systematic        'Indium tin cobalt sulfide'
_chemical_name_common            'Indium tin shandite'
_chemical_formula_moiety         'In Sn Co3 S2'
_chemical_formula_structural     ?
_chemical_formula_analytical     ?
_chemical_formula_iupac          ?
_chemical_formula_sum            ?
_chemical_formula_weight         ?
_chemical_melting_point          1183
_chemical_compound_source        ? # for minerals and 
# natural products

loop_
_atom_type_symbol
_atom_type_scat_length_neutron
_atom_type_scat_source
Co 0.24900 V.F._Sears_Neutron_News_3_26_(1992)
In 0.40650 V.F._Sears_Neutron_News_3_26_(1992)
Sn 0.62250 V.F._Sears_Neutron_News_3_26_(1992)
S 0.28470 V.F._Sears_Neutron_News_3_26_(1992)

#=============================================================================

# 6. POWDER SPECIMEN AND CRYSTAL DATA

_symmetry_cell_setting           Trigonal
_symmetry_space_group_name_H-M   'R -3 m'
_symmetry_space_group_name_Hall  '-R 3 2"'

loop_
_symmetry_equiv_pos_as_xyz #<--must include 'x,y,z'
x,y,z
-y,x-y,z
y,x,-z
-x+y,-x,z
-x,-x+y,-z
x-y,-y,-z
-x,-y,-z
y,-x+y,-z
-y,-x,z
x-y,x,-z
x,x-y,z
-x+y,y,z
x+2/3,y+1/3,z+1/3
-y+2/3,x-y+1/3,z+1/3
y+2/3,x+1/3,-z+1/3
-x+y+2/3,-x+1/3,z+1/3
-x+2/3,-x+y+1/3,-z+1/3
x-y+2/3,-y+1/3,-z+1/3
-x+2/3,-y+1/3,-z+1/3
y+2/3,-x+y+1/3,-z+1/3
-y+2/3,-x+1/3,z+1/3
x-y+2/3,x+1/3,-z+1/3
x+2/3,x-y+1/3,z+1/3
-x+y+2/3,y+1/3,z+1/3
x+1/3,y+2/3,z+2/3
-y+1/3,x-y+2/3,z+2/3
y+1/3,x+2/3,-z+2/3
-x+y+1/3,-x+2/3,z+2/3
-x+1/3,-x+y+2/3,-z+2/3
x-y+1/3,-y+2/3,-z+2/3
-x+1/3,-y+2/3,-z+2/3
y+1/3,-x+y+2/3,-z+2/3
-y+1/3,-x+2/3,z+2/3
x-y+1/3,x+2/3,-z+2/3
x+1/3,x-y+2/3,z+2/3
-x+y+1/3,y+2/3,z+2/3

_cell_length_a                   5.3124(6)
_cell_length_b                   5.3124(6)
_cell_length_c                   13.4782(18)
_cell_angle_alpha                90.00000
_cell_angle_beta                 90.00000
_cell_angle_gamma                120.00000
_cell_volume                     329.41(7)
_cell_formula_units_Z            ?
_cell_measurement_temperature    ?
_cell_special_details            
; ?
;
# The next three fields give the specimen dimensions in mm.  The equatorial
# plane contains the incident and diffracted beam.

_pd_spec_size_axial              ? # perpendicular to 
# equatorial plane
_pd_spec_size_equat              ? # parallel to 
# scattering vector
# in transmission
_pd_spec_size_thick              ? # parallel to 
# scattering vector
# in reflection

# The next five fields are character fields that describe the specimen.

_pd_spec_mounting                
# This field should be
# used to give details of the 
# container.
; ?
;
_pd_spec_mount_mode              ? # options are 'reflection'
# or 'transmission'
_pd_spec_shape                   ? # options are 'cylinder' 
# 'flat_sheet' or 'irregular'
_pd_char_particle_morphology     ?
_pd_char_colour                  ? # use ICDD colour descriptions

# The following three fields describe the preparation of the specimen.
# The cooling rate is in K/min.  The pressure at which the sample was 
# prepared is in kPa.  The temperature of preparation is in K.        

_pd_prep_cool_rate               ?
_pd_prep_pressure                ?
_pd_prep_temperature             ?

# The next four fields are normally only needed for transmission experiments.

_exptl_absorpt_coefficient_mu    ?
_exptl_absorpt_correction_type   ?
_exptl_absorpt_process_details   ?
_exptl_absorpt_correction_T_min  ?
_exptl_absorpt_correction_T_max  ?

#=============================================================================

# 7. EXPERIMENTAL DATA

_exptl_special_details           
; ?
;

# The following item is used to identify the equipment used to record 
# the powder pattern when the diffractogram was measured at a laboratory 
# other than the authors' home institution, e.g. when neutron or synchrotron
# radiation is used.

_pd_instr_location               
; ?
;
_pd_calibration_special_details  
# description of the method used
# to calibrate the instrument
; ?
;

_diffrn_ambient_temperature      298
_diffrn_source                   'nuclear reactor'
_diffrn_radiation_type           'Constant Wavelength Neutron Diffraction'
_diffrn_radiation_wavelength     1.62209
_diffrn_source_type              ? # Put here the diffractometer and site

_diffrn_radiation_monochromator  ?
_diffrn_measurement_device_type  ?
_diffrn_measurement_method       ?
_diffrn_detector_area_resol_mean ? # Not in version 2.0.1
_diffrn_detector                 ?
_diffrn_detector_type            ? # make or model of detector
_pd_meas_scan_method             ? # options are 'step', 'cont',
# 'tof', 'fixed' or
# 'disp' (= dispersive)
_pd_meas_special_details         
;  ?
;

#  The following four items give details of the measured (not processed)
#  powder pattern.  Angles are in degrees.

_pd_meas_number_of_points        1284
_pd_meas_2theta_range_min        3.50000
_pd_meas_2theta_range_max        163.87500
_pd_meas_2theta_range_inc        0.125097

#=============================================================================

# 8. REFINEMENT DATA

_refine_special_details          
; ?
;

# Use the next field to give any special details about the fitting of the
# powder pattern.

_pd_proc_ls_special_details      
; ?
;

# The next three items are given as text.

_pd_proc_ls_profile_function     ?
_pd_proc_ls_background_function  ?
_pd_proc_ls_pref_orient_corr     
; ?
;

#  The following profile R-factors are NOT CORRECTED for background
#  The sum is extended to all non-excluded points.
#  These are the current CIF standard

_pd_proc_ls_prof_R_factor        3.6779
_pd_proc_ls_prof_wR_factor       4.9257
_pd_proc_ls_prof_wR_expected     2.6231

#  The following profile R-factors are CORRECTED for background
#  The sum is extended to all non-excluded points.
#  These items are not in the current CIF standard, but are defined above

_pd_proc_ls_prof_cR_factor       20.0825
_pd_proc_ls_prof_cwR_factor      17.8360
_pd_proc_ls_prof_cwR_expected    9.4981

#  The following items are not in the CIF standard, but are defined above

_pd_proc_ls_prof_chi2            3.5263
_pd_proc_ls_prof_echi2           3.5972

#  Items related to LS refinement

_refine_ls_R_I_factor            8.9485
_refine_ls_number_reflns         100
_refine_ls_number_parameters     29
_refine_ls_number_restraints     0

# The following four items apply to angular dispersive measurements.
# 2theta minimum, maximum and increment (in degrees) are for the 
# intensities used in the refinement.

_pd_proc_2theta_range_min        3.4692
_pd_proc_2theta_range_max        163.8442
_pd_proc_2theta_range_inc        0.125097
_pd_proc_wavelength              1.622090

_pd_block_diffractogram_id       ? # The id used for the block containing
# the powder pattern profile (section 11)

# Give appropriate details in the next two text fields.

_pd_proc_info_excluded_regions   ?
_pd_proc_info_data_reduction     ?

# The following items are used to identify the programs used.

_computing_data_collection       ?
_computing_structure_solution    ?
_computing_structure_refinement  FULLPROF
_computing_molecular_graphics    ?
_computing_publication_material  ?

#=============================================================================

# 9. ATOMIC COORDINATES AND DISPLACEMENT PARAMETERS

loop_
_atom_site_label
_atom_site_fract_x
_atom_site_fract_y
_atom_site_fract_z
_atom_site_U_iso_or_equiv
_atom_site_occupancy
_atom_site_adp_type # Not in version 2.0.1
_atom_site_type_symbol
Co1 0.50000 0.00000 0.50000 0.0061(9) 1.00000 Uiso Co
In1 0.00000 0.00000 0.50000 0.0072(13) 0.32(4) Uiso In
Sn1 0.00000 0.00000 0.50000 0.0072(13) 0.68(4) Uiso Sn
In2 0.00000 0.00000 0.00000 0.0112(13) 0.68(4) Uiso In
Sn2 0.00000 0.00000 0.00000 0.0112(13) 0.32(4) Uiso Sn
S1 0.00000 0.00000 0.2808(3) 0.0093(9) 1.00002 Uiso S

# Note: if the displacement parameters were refined anisotropically
# the U matrices should be given as for single-crystal studies.

#=============================================================================

# 10. DISTANCES AND ANGLES / MOLECULAR GEOMETRY 

_geom_special_details            ?

loop_
_geom_bond_atom_site_label_1
_geom_bond_atom_site_label_2
_geom_bond_site_symmetry_1
_geom_bond_site_symmetry_2
_geom_bond_distance
_geom_bond_publ_flag
? ? ? ? ? ?

loop_
_geom_contact_atom_site_label_1
_geom_contact_atom_site_label_2
_geom_contact_distance
_geom_contact_site_symmetry_1
_geom_contact_site_symmetry_2
_geom_contact_publ_flag
? ? ? ? ? ?

loop_
_geom_angle_atom_site_label_1
_geom_angle_atom_site_label_2
_geom_angle_atom_site_label_3
_geom_angle_site_symmetry_1
_geom_angle_site_symmetry_2
_geom_angle_site_symmetry_3
_geom_angle
_geom_angle_publ_flag
? ? ? ? ? ? ? ?

loop_
_geom_torsion_atom_site_label_1
_geom_torsion_atom_site_label_2
_geom_torsion_atom_site_label_3
_geom_torsion_atom_site_label_4
_geom_torsion_site_symmetry_1
_geom_torsion_site_symmetry_2
_geom_torsion_site_symmetry_3
_geom_torsion_site_symmetry_4
_geom_torsion
_geom_torsion_publ_flag
? ? ? ? ? ? ? ? ? ?

loop_
_geom_hbond_atom_site_label_D
_geom_hbond_atom_site_label_H
_geom_hbond_atom_site_label_A
_geom_hbond_site_symmetry_D
_geom_hbond_site_symmetry_H
_geom_hbond_site_symmetry_A
_geom_hbond_distance_DH
_geom_hbond_distance_HA
_geom_hbond_distance_DA
_geom_hbond_angle_DHA
_geom_hbond_publ_flag
? ? ? ? ? ? ? ? ? ? ?

#=============================================================================

#=============================================================================
# Additional structures (last six sections and associated data_? identifiers) 
# may be added at this point.                                                 
#=============================================================================

# The following lines are used to test the character set of files sent by     
# network email or other means. They are not part of the CIF data set.        
# abcdefghijklmnopqrstuvwxyzABCDEFGHIJKLMNOPQRSTUVWXYZ0123456789              
# !@#$%^&*()_+{}:"~<>?|\-=[];'`,./ 
_exptl_crystal_colour            gray
_exptl_crystal_recrystallization_method 'From the Melt'
_database_code_depnum_ccdc_archive 'CCDC 933690'
