##############################################################################
###      FullProf-generated CIF output file  (version: May 2011)           ###
###      Template of CIF submission form for structure report              ###
##############################################################################

# This file has been generated using FullProf.2k taking one example of
# structure report provided by Acta Cryst. It is given as a 'template' with
# filled structural items. Many other items are left unfilled and it is the
# responsibility of the user to properly fill or suppress them. In principle
# all question marks '?' should be replaced by the appropriate text or
# numerical value depending on the kind of CIF item.
# See the document: cif_core.dic (URL: http://www.iucr.org) for details.

# Please notify any error or suggestion to:
#           Juan Rodriguez-Carvajal (jrc@ill.eu)
# Improvements will be progressively added as needed.

#=============================================================================
 data_global
#=============================================================================

# PROCESSING SUMMARY (IUCr Office Use Only)

_journal_data_validation_number      ?

_journal_date_recd_electronic        ?
_journal_date_to_coeditor            ?
_journal_date_from_coeditor          ?
_journal_date_accepted               ?
_journal_date_printers_first         ?
_journal_date_printers_final         ?
_journal_date_proofs_out             ?
_journal_date_proofs_in              ?
_journal_coeditor_name               ?
_journal_coeditor_code               ?
_journal_coeditor_notes
; ?
;
_journal_techeditor_code             ?
_journal_techeditor_notes
; ?
;
_journal_coden_ASTM                  ?
_journal_name_full                   ?
_journal_year                        ?
_journal_volume                      ?
_journal_issue                       ?
_journal_page_first                  ?
_journal_page_last                   ?
_journal_paper_category              ?
_journal_suppl_publ_number           ?
_journal_suppl_publ_pages            ?

#=============================================================================

# 1. SUBMISSION DETAILS

_publ_contact_author_name            'Jean-Marie Tarascon'
_publ_contact_author_email           jean-marie.tarascon@u-picardie.fr
_publ_contact_author_address
;
Laboratoire de Reactivite et Chimie des Solides,
Universite de Picardie Jules Verne,
CNRS UMR 7314,
33 rue Saint Leu,
80039 Amiens,
France.
;

_publ_requested_journal            'Journal of Materals Chemistry A'

# Definition of non standard CIF items (Reliability indices used in FULLPROF)

loop_
_publ_manuscript_incl_extra_item
_publ_manuscript_incl_extra_info
_publ_manuscript_incl_extra_defn
#      Name                               Explanation                 Standard?
#     ------                              -----------                 ---------
 '_pd_proc_ls_prof_cR_factor'    'Prof. R-factor CORRECTED for background'   no
 '_pd_proc_ls_prof_cwR_factor'   'wProf.R-factor CORRECTED for background'   no
 '_pd_proc_ls_prof_cwR_expected' 'wProf.Expected CORRECTED for background'   no
 '_pd_proc_ls_prof_chi2'         'Chi-square for all considered points'      no
 '_pd_proc_ls_prof_echi2'        'Chi-2 for points with Bragg contribution'  no
#=============================================================================

# 3. TITLE AND AUTHOR LIST

_publ_section_title
;
Design of new electrode materials for Li-ion and Na-ion batteries from the
Bloedite mineral Na2Mg(SO4)2•4H2O
;
_publ_section_title_footnote
.

# The loop structure below should contain the names and addresses of all
# authors, in the required order of publication. Repeat as necessary.

loop_
_publ_author_name
_publ_author_address
_publ_author_footnote
_publ_author_email
'Reynaud, Marine'
;
Laboratoire de Reactivite et Chimie des Solides,
Universite de Picardie Jules Verne,
CNRS UMR 7314,
33 rue Saint Leu,
80039 Amiens,
France.
;
.
;
marine.reynaud@u-picardie.fr
;
'Rousse, Gwenaelle'
;
Institut de Mineralogie et de Physique des Milieux Condenses,
Universite Pierre et Marie Curie,
CNRS UMR 7590,
4 Place Jussieu,
75252 Paris Cedex 05,
France.
;
.
;
gwenaelle.rousse@impmc.upmc.fr
;
'Abakumov, Artem M.'
;
Electron Microscopy for Materials Science,
University of Antwerp,
Groenenborgerlaan 171,
B-2020 Antwerp,
Belgium.
;
.
;
artem.abakumov@ua.ac.be
;
'Sougrati, Moulay T.'
;
Institut Charles Gerhardt-Laboratoire des Agregats, Interfaces et Materiaux pour
l'Energie,
CNRS UMR 5253,
34095 Montpellier Cedex 5,
France.
;
.
;
moulay-tahar.sougrati@univ-montp2.fr
;
'Van Tendeloo, Gustaaf'
;
Electron Microscopy for Materials Science,
University of Antwerp,
Groenenborgerlaan 171,
B-2020 Antwerp,
Belgium.
;
.
;
staf.vantendeloo@ua.ac.be
;
'Chotard, Jean-Noel'
;
Laboratoire de Reactivite et Chimie des Solides,
Universite de Picardie Jules Verne,
CNRS UMR 7314,
33 rue Saint Leu,
80039 Amiens,
France.
;
.
;
jean-noel.chotard@u-picardie.fr
;
'Tarascon, Jean-Marie'
;
Laboratoire de Reactivite et Chimie des Solides,
Universite de Picardie Jules Verne,
CNRS UMR 7314,
33 rue Saint Leu,
80039 Amiens,
France.
;
.
;
jean-marie.tarascon@u-picardie.fr
;

#=============================================================================

# 4. TEXT

_publ_section_synopsis
;
;
_publ_section_abstract
;
;
_publ_section_comment
;
;
_publ_section_exptl_prep      # Details of the preparation of the sample(s)
                              # should be given here.
;
;
_publ_section_exptl_refinement
; Rietveld refinement of Synchrotron X-ray powder diffraction data
;
_publ_section_references
;
;
_publ_section_figure_captions
;
;
_publ_section_acknowledgements
;
;

#=============================================================================

#=============================================================================
# If more than one structure is reported, the remaining sections should be
# completed per structure. For each data set, replace the '?' in the
# data_? line below by a unique identifier.

data_Na2ZnSO424H2O_Reynaud

#=============================================================================

# 5. CHEMICAL DATA


_chemical_name_systematic	    'disodium zinc bis(sulfate(VI)) tetrahydrate'
_chemical_name_common             'Zinc Bloedite'
_chemical_formula_moiety          '(Na +)2, (Zn 2+), (S O4 2-)2, 4(H2 O)'
_chemical_formula_structural      'Na2 Zn (S O4)2 (H2 O)4'
_chemical_formula_sum             'H8 Na2 O12 S2 Zn1'
_chemical_formula_weight          375.5575
_exptl_crystal_density_diffrn     2.505
_chemical_compound_source         synthetic

loop_
    _atom_type_symbol
    _atom_type_scat_Cromer_Mann_a1
    _atom_type_scat_Cromer_Mann_b1
    _atom_type_scat_Cromer_Mann_a2
    _atom_type_scat_Cromer_Mann_b2
    _atom_type_scat_Cromer_Mann_a3
    _atom_type_scat_Cromer_Mann_b3
    _atom_type_scat_Cromer_Mann_a4
    _atom_type_scat_Cromer_Mann_b4
    _atom_type_scat_Cromer_Mann_c
    _atom_type_scat_dispersion_real
    _atom_type_scat_dispersion_imag
    _atom_type_scat_source
s      6.90530   1.46790   5.20340  22.21510   1.43790   0.25360
       1.58630  56.17200   0.86690   0.11000   0.12400
 International_Tables_for_Crystallography_Vol.C(1991)_Tables_6.1.1.4_and_6.1.1.5
zn    14.07430   3.26550   7.03180   0.23330   5.16250  10.31630
       2.41000  58.70970   1.30410   0.22200   1.43100
 International_Tables_for_Crystallography_Vol.C(1991)_Tables_6.1.1.4_and_6.1.1.5
na     4.76260   3.28500   3.17360   8.84220   1.26740   0.31360
       1.11280 129.42400   0.67600   0.03000   0.02500
 International_Tables_for_Crystallography_Vol.C(1991)_Tables_6.1.1.4_and_6.1.1.5
o      3.04850  13.27710   2.28680   5.70110   1.54630   0.32390
       0.86700  32.90890   0.25080   0.00800   0.00600
 International_Tables_for_Crystallography_Vol.C(1991)_Tables_6.1.1.4_and_6.1.1.5
h      0.49300  10.51090   0.32291  26.12570   0.14019   3.14236
       0.04081  57.79970   0.00304   0.00000   0.00000
 International_Tables_for_Crystallography_Vol.C(1991)_Tables_6.1.1.4_and_6.1.1.5

#=============================================================================

# 6. POWDER SPECIMEN AND CRYSTAL DATA

_symmetry_cell_setting                monoclinic
_symmetry_space_group_name_H-M       'P 21/c'
_symmetry_space_group_name_Hall      '-P 2ybc'

loop_
    _symmetry_equiv_pos_as_xyz   #<--must include 'x,y,z'
'x,y,z'
'-x,y+1/2,-z+1/2'
'-x,-y,-z'
'x,-y+1/2,z+1/2'

_cell_length_a                       5.532769(3)
_cell_length_b                       8.253621(4)
_cell_length_c                       11.077085(5)
_cell_angle_alpha                    90.00000
_cell_angle_beta                     100.18520(3)
_cell_angle_gamma                    90.00000
_cell_volume                         497.8679(4)
_cell_formula_units_Z                2
_cell_measurement_temperature        298

_pd_char_colour                   white   # use ICDD colour descriptions



#=============================================================================

# 7. EXPERIMENTAL DATA

_exptl_special_details
; Rietveld refinement of Synchrotron X-ray powder diffraction data
;

# The following item is used to identify the equipment used to record
# the powder pattern when the diffractogram was measured at a laboratory
# other than the authors' home institution, e.g. when neutron or synchrotron
# radiation is used.

_pd_instr_location
; CRISTAL Beamline, SOLEIL Synchrotron, Paris, France
;
_pd_calibration_special_details           # description of the method used
                                          # to calibrate the instrument
;
;

_diffrn_ambient_temperature          298
_diffrn_source                    'Synchrotron - U20 undulator'
_diffrn_source_type               'Synchrotron - U20 undulator'
_diffrn_radiation_type           'x-ray'
_diffrn_radiation_probe                x-ray
_diffrn_radiation_wavelength           0.6681
_diffrn_measurement_device_type
;
2-circle diffractometer of the CRISTAL beamline at SOLEIL
;
_diffrn_detector                  '21-Si(111) crystal analyser'
_diffrn_detector_type             '21-Si(111) crystal analyser'

#  The following four items give details of the measured (not processed)
#  powder pattern.  Angles are in degrees.

_pd_meas_number_of_points         24497
_pd_meas_2theta_range_min         0.00600
_pd_meas_2theta_range_max         48.99800
_pd_meas_2theta_range_inc         0.002000

#=============================================================================

# 8. REFINEMENT DATA

_refine_special_details
; Rietveld refinement of Synchrotron X-ray powder diffraction data
;


#  The following profile R-factors are NOT CORRECTED for background
#  The sum is extended to all non-excluded points.
#  These are the current CIF standard

_pd_proc_ls_prof_R_factor                7.4768
_pd_proc_ls_prof_wR_factor               9.8761
_pd_proc_ls_prof_wR_expected             8.6394

#  The following profile R-factors are CORRECTED for background
#  The sum is extended to all non-excluded points.
#  These items are not in the current CIF standard, but are defined above

_pd_proc_ls_prof_cR_factor               13.7092
_pd_proc_ls_prof_cwR_factor              14.5289
_pd_proc_ls_prof_cwR_expected            12.7095

#  The following items are not in the CIF standard, but are defined above

_pd_proc_ls_prof_chi2                 1.3068
_pd_proc_ls_prof_echi2                1.4739

#  Items related to LS refinement

_refine_ls_R_I_factor                 4.5983
_refine_ls_number_reflns                  1008
_refine_ls_number_parameters                36
_refine_ls_number_restraints                 0

# The following four items apply to angular dispersive measurements.
# 2theta minimum, maximum and increment (in degrees) are for the
# intensities used in the refinement.

_pd_proc_2theta_range_min                0.0084
_pd_proc_2theta_range_max               49.0004
_pd_proc_2theta_range_inc              0.002000
_pd_proc_wavelength                    0.668100


_computing_structure_refinement      FULLPROF


#=============================================================================

# 9. ATOMIC COORDINATES AND DISPLACEMENT PARAMETERS

loop_
    _atom_site_label
    _atom_site_fract_x
    _atom_site_fract_y
    _atom_site_fract_z
    _atom_site_U_iso_or_equiv
    _atom_site_occupancy
    _atom_site_adp_type              # Not in version 2.0.1
    _atom_site_type_symbol
 S   0.37227(17) 0.28809(12) 0.13621(9)  0.0068(2)   1.00000    Uiso S
 Zn   0.00000     0.00000     0.00000     0.00732(15) 1.00000    Uiso ZN
 Na   0.1283(2)   0.06977(16) 0.36161(12) 0.0139(4)   1.00000    Uiso NA
 O1   0.3485(4)   0.2699(2)   0.2676(2)   0.0104(3)   1.00000    Uiso O
 O2   0.2069(4)   0.4157(3)   0.07897(18) 0.0104(3)   1.00000    Uiso O
 O3   0.3178(4)   0.1325(3)   0.07157(19) 0.0104(3)   1.00000    Uiso O
 O4   0.6294(4)   0.3299(2)   0.13152(20) 0.0104(3)   1.00000    Uiso O
 O5   0.1274(4)   0.5378(3)   0.33783(18) 0.0104(3)   1.00000    Uiso O
 O6   0.1745(4)   0.7871(2)   0.08148(19) 0.0104(3)   1.00000    Uiso O
 H1   0.23035     0.44520     0.32080     0.00633     1.00000    Uiso H
 H2   0.22709     0.63586     0.34381     0.00633     1.00000    Uiso H
 H3   0.68253     0.30271     0.35870     0.00633     1.00000    Uiso H
 H4   0.23735     0.71861     0.02062     0.00633     1.00000    Uiso H

# Note: if the displacement parameters were refined anisotropically
# the U matrices should be given as for single-crystal studies.

#=============================================================================

# 10. DISTANCES AND ANGLES / MOLECULAR GEOMETRY

_geom_special_details                ?


loop_
   _geom_bond_atom_site_label_1
   _geom_bond_atom_site_label_2
   _geom_bond_distance
   _geom_bond_site_symmetry_2
   _geom_bond_publ_flag
S     O1    1.492(2)          . n
S     O2    1.464(2)          . n
S     O3    1.475(3)          . n
S     O4    1.474(2)          . n
Zn    O3    2.103(2)          . n
Zn    O3    2.103(2)      3_555 n
Zn    O5    2.066(2)      2_545 n
Zn    O5    2.066(2)      4_554 n
Zn    O6    2.1275(18)    1_545 n
Zn    O6    2.1275(18)    3_565 n

loop_
   _geom_angle_atom_site_label_1
   _geom_angle_atom_site_label_2
   _geom_angle_atom_site_label_3
   _geom_angle
   _geom_angle_site_symmetry_1
   _geom_angle_site_symmetry_3
   _geom_angle_publ_flag
 O1    S   O2   109.8(2)           .    .      n
 O1    S   O3   109.9(2)           .    .      n
 O1    S   O4   108.1(2)           .    .      n


#=============================================================================

#=============================================================================
# Additional structures (last six sections and associated data_? identifiers)
# may be added at this point.
#=============================================================================

# The following lines are used to test the character set of files sent by
# network email or other means. They are not part of the CIF data set.
# abcdefghijklmnopqrstuvwxyzABCDEFGHIJKLMNOPQRSTUVWXYZ0123456789
# !@#$%^&*()_+{}:"~<>?|\-=[];'`,./
