data_PdTeI_local_300K
_symmetry_space_group_name_H-M "P 43 2 2"
_symmetry_Int_Tables_number 95
 
_cell_length_a    7.80155
_cell_length_b    7.80155
_cell_length_c    11.28670
_cell_angle_alpha 90.00000
_cell_angle_beta  90.00000
_cell_angle_gamma 90.00000
 
loop_
_atom_site_label
_atom_site_type_symbol
_atom_site_symmetry_multiplicity
_atom_site_Wyckoff_label
_atom_site_fract_x
_atom_site_fract_y
_atom_site_fract_z
_atom_site_occupancy
Pd1 Pd   4 a 0.00000 0.74691 0.00000 1.00000
Pd2 Pd   4 a 0.00000 0.25309 0.00000 1.00000
Te1 Te   8 d 0.00000 0.78365 0.24499 1.00000
I1  I    8 d 0.24233 0.50000 0.98717 1.00000
